BEGIN:VCALENDAR
VERSION:2.0
PRODID:-//Ojai Hub - ECPv5.16.1.1//NONSGML v1.0//EN
CALSCALE:GREGORIAN
METHOD:PUBLISH
X-WR-CALNAME:Ojai Hub
X-ORIGINAL-URL:https://www.ojaihub.com
X-WR-CALDESC:Events for Ojai Hub
BEGIN:VTIMEZONE
TZID:America/Los_Angeles
BEGIN:DAYLIGHT
TZOFFSETFROM:-0800
TZOFFSETTO:-0700
TZNAME:PDT
DTSTART:20220313T100000
END:DAYLIGHT
BEGIN:STANDARD
TZOFFSETFROM:-0700
TZOFFSETTO:-0800
TZNAME:PST
DTSTART:20221106T090000
END:STANDARD
END:VTIMEZONE
BEGIN:VEVENT
DTSTART;TZID=America/Los_Angeles:20220401T023000
DTEND;TZID=America/Los_Angeles:20220401T073000
DTSTAMP:20260421T102332
CREATED:20220311T092520Z
LAST-MODIFIED:20220311T092520Z
UID:55311-1648780200-1648798200@www.ojaihub.com
SUMMARY:COVID CLINIC - Free COVID Vaccines @ Sarzotti Park
DESCRIPTION:COVID-19 Vaccines Now Available through COVID Clinic at Sarzotti Park on Wednesdays and Fridays.\n\n\n\nBeginning Wednesday\, March 9\, 2022\, Covid Clinic will begin to offer free COVID-19 vaccines at Sarzotti Park\, 510 Park Rd. Ojai\, CA. 93023. This service will be available on Wednesdays and Fridays from 9:30 am. to 2:30 p.m. You do not need to have health insurance to get vaccinated\, however\, if you have health insurance\, you will be asked you to share that information. Pre-registration is strongly recommended. To register\, please visit https://myturn.ca.gov/.\n\n\nIn addition to offering COVID-19 vaccines\, Covid Clinic will continue to offer no cost testing and an array of paid services Monday through Friday from 9:00 a.m. to 3:00 p.m. at Sarzotti Park. Paid services include but are not limited to: COVID-19 testing for travel\, Rapid COVID-19 RT-PCR testing\, Rapid COVID-19 Antibody testing\, Rapid COVID-19 + Flu Antigen\, amongst other services. To learn more about the services offered by Covid Clinics\, please visit www.covidclinic.org/.\n\n\n\n	Related
URL:https://www.ojaihub.com/event/covid-clinic-free-covid-vaccines-sarzotti-park-2022-04-01/
LOCATION:Sarzotti Park\, 510 Park Road\, Ojai\, CA\, 93023\, United States
CATEGORIES:Citizenship
ATTACH;FMTTYPE=image/jpeg:https://www.ojaihub.com/wp-content/uploads/2022/03/275604906_287483480230220_7066727271353402313_n.jpg
ORGANIZER;CN="Covid%20Clinic":MAILTO:info@covidclinic.org
END:VEVENT
END:VCALENDAR