BEGIN:VCALENDAR
VERSION:2.0
PRODID:-//Ojai Hub - ECPv5.16.1.1//NONSGML v1.0//EN
CALSCALE:GREGORIAN
METHOD:PUBLISH
X-WR-CALNAME:Ojai Hub
X-ORIGINAL-URL:https://www.ojaihub.com
X-WR-CALDESC:Events for Ojai Hub
BEGIN:VTIMEZONE
TZID:America/Los_Angeles
BEGIN:DAYLIGHT
TZOFFSETFROM:-0800
TZOFFSETTO:-0700
TZNAME:PDT
DTSTART:20220313T100000
END:DAYLIGHT
BEGIN:STANDARD
TZOFFSETFROM:-0700
TZOFFSETTO:-0800
TZNAME:PST
DTSTART:20221106T090000
END:STANDARD
END:VTIMEZONE
BEGIN:VEVENT
DTSTART;TZID=America/Los_Angeles:20220302T130000
DTEND;TZID=America/Los_Angeles:20220302T150000
DTSTAMP:20260422T085827
CREATED:20220107T014802Z
LAST-MODIFIED:20220107T014802Z
UID:52302-1646226000-1646233200@www.ojaihub.com
SUMMARY:KATHLEEN KAISER & ASSOCIATES - Marketing for Arts Nonprofits
DESCRIPTION:“Marketing for Arts Nonprofits” Educational Series Begins February 2\n  \nThe pandemic struck every corner of the economy\, especially nonprofit arts groups. And\, unfortunately\, there were no shows\, no public events\, none of the in-person gatherings that spark like-minded people to contribute\, purchase\, and support their favorite artists\, theaters\, or arts groups. \nEntering Year Three of this scourge\, vaccinations have made it possible for more events\, more openings\, more fundraisers. While Zoom became a stopgap toward keeping an organization visible\, nothing works like the energy of people sitting in a theater watching a production or viewing art on gallery walls. \n“I believe we are rounding the corner on COVID\,” said Kathleen Kaiser\, President of Kathleen Kaiser & Associates\,” and it’s time for arts nonprofits to step up and plan their marketing for the next year of events\, fundraisers\, and other activities to support their work and meet their goals. Therefore\, I am launching a series of Zoom classes on nonprofit marketing. My entire career has been in corporate marketing for events\, productions\, products\, conferences\, and more. Having worked in Ventura County on marketing with nonprofits since 2002\, I know this region\, how to find audiences\, attract supporters\, volunteers\, and more. I want to help groups prosper by presenting this series\, Marketing for Arts Nonprofits.” \nMany arts nonprofits know of Kathleen and her work with Ojai Shakespeare Festival\, Ojai Film Festival\, Ojai Arts Center Theater\, Ojai Studio Artists\, Art Walks\, Art in the Park\, Ojai Performing Arts Theater\, and many more. She recently took over the SoCal Theater Insider website. She was on the Center for Nonprofit Leadership workshop staff at California Lutheran University and before that at the Ventura County Community Foundation for almost 15 years. \n“Promoting in Ojai\, a mountain community off the beaten path\, is not the easiest\, but I’ve found ways to draw in people from outside the valley and grow attendance. This can translate to any town or city.” She will also have guest speakers from publications and other nonprofits who excel at marketing discuss what they’ve done in specific areas that worked. \nThe program is designed step-by-step\, each session building on the next. Participating groups will learn: \n\nWho is your actual audience\, demographics\, and how do you find new people? Attendees will be asked to bring certain information to class for review. If you don’t have a firm grasp on your demos\, you can’t market to find more.\nUnderstanding that a website is the core of marketing today. What are the key elements when building or redesigning your site to continually drive traffic to your events\, raise funds\, find volunteers\, and keep your organization in front of the public\, especially those who might support your efforts\, is critical to your success.\nOne whole session will have participants working on a press release for an upcoming event and walking away with something they can present to the media and get published. Each participant will be given Kathleen’s press list as a bonus!\nA review of all social media\, which apps help drive sales and which help build a buzz—both essential to any campaign. Where to buy SM ads\, how to define your audience\, and hashtags\, the secret sauce for success. Includes an onscreen tour of the top sites and how to set up ads.\nTraditional advertising and online ads—print ads and broadcast: when they work today and when your dollars could be spent more wisely elsewhere. What makes an eye-catching ad\, the key elements to include\, and why font choices are so important. Why you can capture more eyes with a mix of print and online ads.\nPlanning and accurate budgeting\, the often-lacking elements in marketing\, will cover how to budget\, when to start\, and the long view that will lead to a prosperous event. The art of calendaring\, assigning the right people to tasks\, finding volunteers and others to make your event a success.\n\nAll sessions will have handouts covering that day’s material so attendees can review. In addition\, a link to the session for future review is included. \nThe workshop begins February 2 and runs for six consecutive Wednesdays at 2 pm. Each interactive class will last two to three hours\, leaving time for lots of questions. Only 20 people will be allowed\, to keep personal attention high. The cost for all five sessions is $175. All sessions will be recorded and available to participants. \n\n\n	Related
URL:https://www.ojaihub.com/event/kathleen-kaiser-associates-marketing-for-arts-nonprofits-2022-03-02/
LOCATION:Online\, Ojai\, CA\, 93023\, United States
CATEGORIES:Learning,Virtual
ATTACH;FMTTYPE=image/png:https://www.ojaihub.com/wp-content/uploads/2022/01/marketing-logo-transparent72.png
ORGANIZER;CN="kathleen%20kaiser%20and%20associates":MAILTO:kathleen@kathleenkaiser.com
END:VEVENT
END:VCALENDAR