BEGIN:VCALENDAR
VERSION:2.0
PRODID:-//Ojai Hub - ECPv5.16.1.1//NONSGML v1.0//EN
CALSCALE:GREGORIAN
METHOD:PUBLISH
X-WR-CALNAME:Ojai Hub
X-ORIGINAL-URL:https://www.ojaihub.com
X-WR-CALDESC:Events for Ojai Hub
BEGIN:VTIMEZONE
TZID:America/Los_Angeles
BEGIN:DAYLIGHT
TZOFFSETFROM:-0800
TZOFFSETTO:-0700
TZNAME:PDT
DTSTART:20210314T100000
END:DAYLIGHT
BEGIN:STANDARD
TZOFFSETFROM:-0700
TZOFFSETTO:-0800
TZNAME:PST
DTSTART:20211107T090000
END:STANDARD
END:VTIMEZONE
BEGIN:VEVENT
DTSTART;TZID=America/Los_Angeles:20211204T110000
DTEND;TZID=America/Los_Angeles:20211204T160000
DTSTAMP:20260421T014403
CREATED:20211203T014301Z
LAST-MODIFIED:20211203T014301Z
UID:50875-1638615600-1638633600@www.ojaihub.com
SUMMARY:KROTONA INSTITUTE - Library Reopening
DESCRIPTION:KROTONA WELCOMES YOU BACK!\nWE’VE MISSED YOU! \nThe Krotona Institute of Theosophy would like to let you know that the LIBRARY AND BOOKSHOP will be open again on the weekends\, starting December 4th & 5th. Our library houses one of the most extensive collections of esoteric books. Browse the aisles\, become a member\, checkout or return books on loan. Take a break in the lovely cascade garden or enjoy the magnificent view from the front porch. The Krotona Bookshop has many of the same titles for sale\, as well as wonderful variety of great gift items. \nBookstore and Library Hours are: \nSaturday from 12:00 – 5:00pm \nSunday from 1:00 – 5:00pm \nBy Appointment During the Week \n(closed Christmas and New Year’s weekends) \n\nSocial distancing and masks must be observed within the building. \n Krotona Institute of Theosophy\,  2 Krotona St.\, Ojai\, CA 93023  \nLibrary (805)646-2653 & Bookshop (805)646-0873 \n\n\n	Related
URL:https://www.ojaihub.com/event/krotona-institute-library-reopening/
LOCATION:Krotona Institute\, 46 Krotona Street\, ojai\, CA\, 93023\, United States
CATEGORIES:Business (H)
ATTACH;FMTTYPE=image/jpeg:https://www.ojaihub.com/wp-content/uploads/2021/12/library-front-750x421-1.jpg
ORGANIZER;CN="Krotona%20Institute":MAILTO:info@krotonainstitute.org
END:VEVENT
END:VCALENDAR