BEGIN:VCALENDAR
VERSION:2.0
PRODID:-//Ojai Hub - ECPv5.16.1.1//NONSGML v1.0//EN
CALSCALE:GREGORIAN
METHOD:PUBLISH
X-WR-CALNAME:Ojai Hub
X-ORIGINAL-URL:https://www.ojaihub.com
X-WR-CALDESC:Events for Ojai Hub
BEGIN:VTIMEZONE
TZID:America/Los_Angeles
BEGIN:DAYLIGHT
TZOFFSETFROM:-0800
TZOFFSETTO:-0700
TZNAME:PDT
DTSTART:20220313T100000
END:DAYLIGHT
BEGIN:STANDARD
TZOFFSETFROM:-0700
TZOFFSETTO:-0800
TZNAME:PST
DTSTART:20221106T090000
END:STANDARD
END:VTIMEZONE
BEGIN:VEVENT
DTSTART;TZID=America/Los_Angeles:20220321T103000
DTEND;TZID=America/Los_Angeles:20220321T120000
DTSTAMP:20260421T200932
CREATED:20220225T185708Z
LAST-MODIFIED:20220225T185708Z
UID:54650-1647858600-1647864000@www.ojaihub.com
SUMMARY:KROTONA SCHOOL - Let's Talk About Death
DESCRIPTION:Let’s Talk About Death\nMarch 7 – 28 (Krotona Garden or Library Patio)\nFour Mondays 10:30 am – noon \n  \nHow do we walk more consciously into the fact that all of us die? Come together in a space of inquiry\, sitting with fears and revelations around the subject of our mortality as we presence ourselves with this complex subject. We will look at cultural constructs and share personal stories that guide us to know ourselves deeper as we walk towards one of the two most significant events in our lives. The month-long series includes meditation homework and journaling to take home in between. All are welcome. \nSingle Session $15\, Series $50 \nJoslyn Lawrence is trained in Death Midwifery and Hospice. She holds a degree in Spiritual Psychology\, with 550+ hours of Yoga studies\, is a parent and a long-time Fine Artist. She weaves years of personal practice and experience into a unique way of holding space for life transitions and grief literacy. Joslyn is a firm believer that if we embrace\, and even love the fact that we are all going to die someday\, it could greatly impact our lives and our culture. She facilitates open discussions around what it means to be an Elder and an Elder-in-Training\, and holds Grief Circles\, Death Cafes\, plus dance\, movement\, and sound classes focused on being present with What Is as an essential daily practic. \n\n\n	Related
URL:https://www.ojaihub.com/event/krotona-school-lets-talk-about-death-2022-03-21/
LOCATION:Krotona Institute\, 46 Krotona Street\, ojai\, CA\, 93023\, United States
CATEGORIES:Learning
ATTACH;FMTTYPE=image/jpeg:https://www.ojaihub.com/wp-content/uploads/2022/02/b0574073-6176-36ff-a55b-7ca85b335826-scaled.jpg
ORGANIZER;CN="Krotona%20Institute":MAILTO:info@krotonainstitute.org
END:VEVENT
END:VCALENDAR