BEGIN:VCALENDAR
VERSION:2.0
PRODID:-//Ojai Hub - ECPv5.16.1.1//NONSGML v1.0//EN
CALSCALE:GREGORIAN
METHOD:PUBLISH
X-WR-CALNAME:Ojai Hub
X-ORIGINAL-URL:https://www.ojaihub.com
X-WR-CALDESC:Events for Ojai Hub
BEGIN:VTIMEZONE
TZID:America/Los_Angeles
BEGIN:DAYLIGHT
TZOFFSETFROM:-0800
TZOFFSETTO:-0700
TZNAME:PDT
DTSTART:20220313T100000
END:DAYLIGHT
BEGIN:STANDARD
TZOFFSETFROM:-0700
TZOFFSETTO:-0800
TZNAME:PST
DTSTART:20221106T090000
END:STANDARD
END:VTIMEZONE
BEGIN:VEVENT
DTSTART;TZID=America/Los_Angeles:20220329T030000
DTEND;TZID=America/Los_Angeles:20220329T050000
DTSTAMP:20260421T145251
CREATED:20220311T111930Z
LAST-MODIFIED:20220311T111930Z
UID:55347-1648522800-1648530000@www.ojaihub.com
SUMMARY:KROTONA SCHOOL - Yoga and the Journey  of Self Transformation
DESCRIPTION:Yoga and the Journey of Self Transformation with Ravi Ravindra\n11 Classes 10 am – noon\, via Zoom\nMarch 15 – 18 and 22 – 25 Tuesday – Friday\, March 29 – 31 Tuesday – Thursday \nAll serious teachings insist on a radical self-transformation in order to make any connection with the Truth or God or the Real. This necessitates an impartial self-inquiry in order to understand the self of which I need to be free and the call of the Self which I need to understand and follow.  A searcher soon becomes deeply interested in the long but adventurous journey of inner transformation.  We will undertake a detailed study of the Yoga Sutras\, the classic of Yoga\, and will explore how the practice and theory of Yoga corresponds to this inner voyage of transformation. Single Session $15\, Series $150 \nRavi Ravindra\, PhD is professor emeritus at Dalhousie University\, Halifax\, Canada\, where he taught in the departments of physics\, philosophy and comparative religion. He has authored many papers in these fields and several books\, including Pilgrim Soul; the Gospel of John in the Light of Indian Mysticism; Science and the Sacred; The Wisdom of Patanjali’s Yoga Sutras and The Bhagavad Gita: A Guide to Navigating the Battle of Life. \n\n\n	Related
URL:https://www.ojaihub.com/event/krotona-school-yoga-and-the-journey%e2%80%a8-of-self-transformation-2022-03-29/
LOCATION:Online\, Ojai\, CA\, 93023\, United States
CATEGORIES:Learning,Virtual
ATTACH;FMTTYPE=image/jpeg:https://www.ojaihub.com/wp-content/uploads/2022/03/pascal-muller-rhYdgo-rpvg-unsplash-scaled.jpg
ORGANIZER;CN="Krotona%20Institute":MAILTO:info@krotonainstitute.org
END:VEVENT
END:VCALENDAR