BEGIN:VCALENDAR
VERSION:2.0
PRODID:-//Ojai Hub - ECPv5.16.1.1//NONSGML v1.0//EN
CALSCALE:GREGORIAN
METHOD:PUBLISH
X-WR-CALNAME:Ojai Hub
X-ORIGINAL-URL:https://www.ojaihub.com
X-WR-CALDESC:Events for Ojai Hub
BEGIN:VTIMEZONE
TZID:America/Los_Angeles
BEGIN:DAYLIGHT
TZOFFSETFROM:-0800
TZOFFSETTO:-0700
TZNAME:PDT
DTSTART:20220313T100000
END:DAYLIGHT
BEGIN:STANDARD
TZOFFSETFROM:-0700
TZOFFSETTO:-0800
TZNAME:PST
DTSTART:20221106T090000
END:STANDARD
END:VTIMEZONE
BEGIN:VEVENT
DTSTART;TZID=America/Los_Angeles:20220327T070000
DTEND;TZID=America/Los_Angeles:20220327T090000
DTSTAMP:20260421T095753
CREATED:20220324T212541Z
LAST-MODIFIED:20220324T222719Z
UID:55729-1648364400-1648371600@www.ojaihub.com
SUMMARY:NORDHOFF THEATRE ARTS - 12 Angry Jurors
DESCRIPTION:Theatre In The Round\, in the Nordhoff Black Box on the Nordhoff Campus. \nThursday\, March 24 & Friday\, March 25th at 7pm\, Saturday\, March 26 at 2pm and 7pm \nTickets avail. at nordhoffdrama.org
URL:https://www.ojaihub.com/event/nordhoff-theatre-arts-12-angry-jurors-2022-03-27/
LOCATION:Nordhoff High School\, 1401 Maricopa Highway\, Ojai\, CA\, 93023\, United States
CATEGORIES:Entertainment,Performances*
ATTACH;FMTTYPE=image/jpeg:https://www.ojaihub.com/wp-content/uploads/2022/03/Nordhoff-12-angry-scaled.jpg
END:VEVENT
END:VCALENDAR