BEGIN:VCALENDAR
VERSION:2.0
PRODID:-//Ojai Hub - ECPv5.16.1.1//NONSGML v1.0//EN
CALSCALE:GREGORIAN
METHOD:PUBLISH
X-WR-CALNAME:Ojai Hub
X-ORIGINAL-URL:https://www.ojaihub.com
X-WR-CALDESC:Events for Ojai Hub
BEGIN:VTIMEZONE
TZID:America/Los_Angeles
BEGIN:DAYLIGHT
TZOFFSETFROM:-0800
TZOFFSETTO:-0700
TZNAME:PDT
DTSTART:20220313T100000
END:DAYLIGHT
BEGIN:STANDARD
TZOFFSETFROM:-0700
TZOFFSETTO:-0800
TZNAME:PST
DTSTART:20221106T090000
END:STANDARD
END:VTIMEZONE
BEGIN:VEVENT
DTSTART;TZID=America/Los_Angeles:20220108T180000
DTEND;TZID=America/Los_Angeles:20220108T200000
DTSTAMP:20260421T231132
CREATED:20220107T013001Z
LAST-MODIFIED:20220107T013001Z
UID:52247-1641664800-1641672000@www.ojaihub.com
SUMMARY:OJAI ART CENTER - A One Man\, One Woman Exhibit
DESCRIPTION:A One Man — One Woman Exhibit\nPaul Whitehead & Trisha van Cleef\nArtist in Residence\nJanuary 8 – March 3\, 2022\n\nJanuary 8 from 7 to 9 pm Reception\, live music and refreshments with musical instrument display by Peter Whitehead\n\nJanuary 12 – 14\, 12;30 – 4 pm each day in the gallery\, Creation of sand painting\n\nJanuary 15\, 5 – 7 pm TED Talk – “Creativity\, What it IS and Is not.”\nOjai Art Center Gallery\n113 S. Montgomery Street\nOjai\, CA 93023 \nGallery hours – Tuesday – Friday 10 am to 4 pm\,\nSaturday and Sunday Noon to 4 pm\nClosed Mondays \n\n\n	Related
URL:https://www.ojaihub.com/event/ojai-art-center-a-one-man-one-woman-exhibit/
LOCATION:Ojai Art Center\, 113 South Montgomery Street\, ojai\, CA\, 93023\, United States
CATEGORIES:Art Events,Gatherings
ATTACH;FMTTYPE=image/jpeg:https://www.ojaihub.com/wp-content/uploads/2022/01/unnamed-8.jpg
END:VEVENT
END:VCALENDAR