BEGIN:VCALENDAR
VERSION:2.0
PRODID:-//Ojai Hub - ECPv5.16.1.1//NONSGML v1.0//EN
CALSCALE:GREGORIAN
METHOD:PUBLISH
X-WR-CALNAME:Ojai Hub
X-ORIGINAL-URL:https://www.ojaihub.com
X-WR-CALDESC:Events for Ojai Hub
BEGIN:VTIMEZONE
TZID:America/Los_Angeles
BEGIN:DAYLIGHT
TZOFFSETFROM:-0800
TZOFFSETTO:-0700
TZNAME:PDT
DTSTART:20220313T100000
END:DAYLIGHT
BEGIN:STANDARD
TZOFFSETFROM:-0700
TZOFFSETTO:-0800
TZNAME:PST
DTSTART:20221106T090000
END:STANDARD
END:VTIMEZONE
BEGIN:VEVENT
DTSTART;TZID=America/Los_Angeles:20220221T163000
DTEND;TZID=America/Los_Angeles:20220221T173000
DTSTAMP:20260421T125547
CREATED:20210701T170806Z
LAST-MODIFIED:20220304T051843Z
UID:51852-1645461000-1645464600@www.ojaihub.com
SUMMARY:OJAI ARTS EXCHANGE - Tap Dance Class
DESCRIPTION:Ojai Arts Exchange Class Schedule\n\nMondays\n5:30 Tap Dance Class\n\n\n\n\n\n\n	Related
URL:https://www.ojaihub.com/event/ojai-arts-exchange-dance-classes-2022-02-21/
LOCATION:Ojai Underground Exchange\, 616 Pearl St.\, Ojai\, CA\, 93023\, United States
CATEGORIES:Learning,Music (H)
ATTACH;FMTTYPE=image/jpeg:https://www.ojaihub.com/wp-content/uploads/2021/07/download-1.jpg
ORGANIZER;CN="Ojai%20Arts%20Exchange":MAILTO:cassidy@ojaiartsexchange.com
END:VEVENT
END:VCALENDAR