BEGIN:VCALENDAR
VERSION:2.0
PRODID:-//Ojai Hub - ECPv5.16.1.1//NONSGML v1.0//EN
CALSCALE:GREGORIAN
METHOD:PUBLISH
X-WR-CALNAME:Ojai Hub
X-ORIGINAL-URL:https://www.ojaihub.com
X-WR-CALDESC:Events for Ojai Hub
BEGIN:VTIMEZONE
TZID:America/Los_Angeles
BEGIN:DAYLIGHT
TZOFFSETFROM:-0800
TZOFFSETTO:-0700
TZNAME:PDT
DTSTART:20220313T100000
END:DAYLIGHT
BEGIN:STANDARD
TZOFFSETFROM:-0700
TZOFFSETTO:-0800
TZNAME:PST
DTSTART:20221106T090000
END:STANDARD
END:VTIMEZONE
BEGIN:VEVENT
DTSTART;TZID=America/Los_Angeles:20220703T110000
DTEND;TZID=America/Los_Angeles:20220703T130000
DTSTAMP:20260421T152620
CREATED:20220701T174357Z
LAST-MODIFIED:20220701T174357Z
UID:60889-1656846000-1656853200@www.ojaihub.com
SUMMARY:OJAI KUNG FU - Kung Fu Classes
DESCRIPTION:We are pleased to announce new beginner kids classes are commencing on June 2nd\, 2021! Mondays and Wednesdays\, 4:30pm – 5:30pm. Call 805.850.8454 to inquire. Sign up today! Space is is limited! \nHaving returned to his hometown of Ojai\, California\, Sigung Tom teaches students of all ages and walks of life in the area. \nSigung Tom teaches both group classes and private lessons in methods of external as well as internal martial arts. \n \nDifferent techniques that are applicable in “real life” situations are taught. This includes self defense techniques that deal with striking\, grappling\, and ground fighting. In addition\, weapons are taught that include projectile\, long-range\, mid-range\, and short-range attacks and defenses. \nAccommodations can also be made for students who are seeking to train with more emphasis on health rather than on combat. \nPlease check below for information on classes in the Ojai area: \nOjai Area Class Schedule\n \n\n\nThe monthly course provides a solid foundation to the fundamentals of Kung Fu. $50 materials fee paid to the instructor Location Multipurpose Room Instructor Thomas Farrar \nSchedule \nFrom: Jul 2 2022 to Jul 26 2022 \nEvery Sunday: 10:00am to 11:00am \nFrom: Jul 2 2022 to Jul 26 2022 \nEvery Monday\, Wednesday: 4:30pm to 5:30pm
URL:https://www.ojaihub.com/event/ojai-kung-fu-kung-fu-classes/
LOCATION:Ojai Recreation Department\, 510 Park Road\, Ojai\, CA\, 93023\, United States
CATEGORIES:Citizenship,Family Events (H),Gatherings,Learning
ATTACH;FMTTYPE=image/gif:https://www.ojaihub.com/wp-content/uploads/2022/07/school01.gif
ORGANIZER;CN="Ojai%20Kung%20Fu":MAILTO:sigongtom@gmail.com
END:VEVENT
END:VCALENDAR