BEGIN:VCALENDAR
VERSION:2.0
PRODID:-//Ojai Hub - ECPv5.16.1.1//NONSGML v1.0//EN
CALSCALE:GREGORIAN
METHOD:PUBLISH
X-WR-CALNAME:Ojai Hub
X-ORIGINAL-URL:https://www.ojaihub.com
X-WR-CALDESC:Events for Ojai Hub
BEGIN:VTIMEZONE
TZID:America/Los_Angeles
BEGIN:DAYLIGHT
TZOFFSETFROM:-0800
TZOFFSETTO:-0700
TZNAME:PDT
DTSTART:20220313T100000
END:DAYLIGHT
BEGIN:STANDARD
TZOFFSETFROM:-0700
TZOFFSETTO:-0800
TZNAME:PST
DTSTART:20221106T090000
END:STANDARD
END:VTIMEZONE
BEGIN:VEVENT
DTSTART;TZID=America/Los_Angeles:20220228T090000
DTEND;TZID=America/Los_Angeles:20220228T110000
DTSTAMP:20260421T191939
CREATED:20220121T073908Z
LAST-MODIFIED:20220121T073908Z
UID:52663-1646038800-1646046000@www.ojaihub.com
SUMMARY:OSHER LIFELONG LEARNING INSTITUTE - free adult learning
DESCRIPTION:Osher Lifelong Learning Institute classes start in January\nOLLI at CSU Channel Islands Spring I Zoom classes begin on January 24th. \n  \nChoose from 10 courses\, including: \n  Rockin’ and a Rollin’ – The Earth is Shaking \n  The American Dream: The History and Future of an Idea \n  Seedy Secrets of Ancient Gardens: Culture and Horticulture in Rome \n  Hollywood: One Studio at a Time (Warner Bros) \nAimed at adults 50 and over\, OLLI offers intellectually stimulating six week college-level courses on a variety of topics without the burden of homework\, tests or grades. \nRegistration for classes begins January 10th. \nFor more information\, contact the OLLI team at \nhttps://ext.csuci.edu/programs/professional-community-ed/osher-lifelong-learning-institute/ \nor (805) 437-2748\, Option”2″ \n\n\n	Related
URL:https://www.ojaihub.com/event/osher-lifelong-learning-institute-free-adult-learning-2022-02-28/
LOCATION:Online\, Ojai\, CA\, 93023\, United States
CATEGORIES:Citizenship,Learning,Virtual
ATTACH;FMTTYPE=image/png:https://www.ojaihub.com/wp-content/uploads/2022/01/OLLI-CSUCI-banner.png
ORGANIZER;CN="OLLI":MAILTO:OLLI@csuci.edu
END:VEVENT
END:VCALENDAR