BEGIN:VCALENDAR
VERSION:2.0
PRODID:-//Ojai Hub - ECPv5.16.1.1//NONSGML v1.0//EN
CALSCALE:GREGORIAN
METHOD:PUBLISH
X-WR-CALNAME:Ojai Hub
X-ORIGINAL-URL:https://www.ojaihub.com
X-WR-CALDESC:Events for Ojai Hub
BEGIN:VTIMEZONE
TZID:America/Los_Angeles
BEGIN:DAYLIGHT
TZOFFSETFROM:-0800
TZOFFSETTO:-0700
TZNAME:PDT
DTSTART:20220313T100000
END:DAYLIGHT
BEGIN:STANDARD
TZOFFSETFROM:-0700
TZOFFSETTO:-0800
TZNAME:PST
DTSTART:20221106T090000
END:STANDARD
END:VTIMEZONE
BEGIN:VEVENT
DTSTART;TZID=America/Los_Angeles:20220120T120000
DTEND;TZID=America/Los_Angeles:20220120T130000
DTSTAMP:20260422T035433
CREATED:20220113T220513Z
LAST-MODIFIED:20220325T000540Z
UID:52356-1642680000-1642683600@www.ojaihub.com
SUMMARY:SOMATIC SANCTUARY - Awareness In Action
DESCRIPTION:AWARENESS IN ACTION (in studio & via zoom )\nMovement as a Personal Practice\nwith Mary Jo Healy\n\n\n\n\n\nThursday 1.00pm – 2.00pm \nFeldenkrais lessons use gentle mindful movements that enhance coordination\, strength\, balance\, flexibility and neuroplasticity. Each lesson is unique\, a mini-learning adventure about one’s self. Facilitating letting go of tensions and concerns that may be held in the body and supporting our health and flexibility. \nSuggested Donation $15 \n\n \n\nSign In Link\n\n\n\n\n	Related
URL:https://www.ojaihub.com/event/somatic-sanctuary-awareness-in-action-2022-01-20/
LOCATION:Somatic Sanctuary\, 410 West Ojai Avenue\, Ojai\, CA\, 93023\, United States
CATEGORIES:Healing & Wellness (H),Learning,Virtual
ATTACH;FMTTYPE=image/jpeg:https://www.ojaihub.com/wp-content/uploads/2022/01/4.2-ATM-MJH-8.2.20.jpg
ORGANIZER;CN="Somatic%20Sanctuary":MAILTO:support@somaticsanctuary.com
END:VEVENT
END:VCALENDAR