BEGIN:VCALENDAR
VERSION:2.0
PRODID:-//Ojai Hub - ECPv5.16.1.1//NONSGML v1.0//EN
CALSCALE:GREGORIAN
METHOD:PUBLISH
X-WR-CALNAME:Ojai Hub
X-ORIGINAL-URL:https://www.ojaihub.com
X-WR-CALDESC:Events for Ojai Hub
BEGIN:VTIMEZONE
TZID:America/Los_Angeles
BEGIN:DAYLIGHT
TZOFFSETFROM:-0800
TZOFFSETTO:-0700
TZNAME:PDT
DTSTART:20220313T100000
END:DAYLIGHT
BEGIN:STANDARD
TZOFFSETFROM:-0700
TZOFFSETTO:-0800
TZNAME:PST
DTSTART:20221106T090000
END:STANDARD
END:VTIMEZONE
BEGIN:VEVENT
DTSTART;TZID=America/Los_Angeles:20220223T170000
DTEND;TZID=America/Los_Angeles:20220223T190000
DTSTAMP:20260422T173420
CREATED:20220113T215042Z
LAST-MODIFIED:20220121T075114Z
UID:52316-1645635600-1645642800@www.ojaihub.com
SUMMARY:SOMATIC SANCTUARY - Continuum Movement (Tele-Dive)
DESCRIPTION:A TELE-DIVE CONTINUUM MOVEMENT® 8 WEEKS SERIES   \nWith Sarah Grace\n\n\n\n\nWEDNESDAY 6.00pm – 8.00pm PST  NEXT SERIES BEGINS FEB 2 2022 \nSeries Dates:  Feb 2\, 9\, 16\, 23\, Mar 2\, 9\, 16\, 23 \n\n\n\n\n\nJoin Sarah from the comfort of your home for this live tele-dive series. AUDIO ONLY. Listen live and also receive recordings of each session in case you can’t join live or if you want to listen again and again – they are yours for life. \nContinuum Movement® is a profound practice supporting the nervous system to heal itself\, grounding in present-moment experiences and building the capacity to BE. \nUsing breath and sound\, we explore our fluid bodies through subtle movement\, wave motion\, and the language of sensation. Within Sacred Space\, together\, we have the opportunity of allowing time to slow down\, to shed that which needs to shed\, and to come through anew\, refreshed\, reset\, and reborn. When we access the Innate Intelligence of the deeper Forces that sustain us\, we tap into the pulsating streams of life as they ripple through our systems\, and we enter The Mystery of what it means to embody. \nSacred Investment: Includes 8 Live sessions & 8 recording downloads \n\n$177 USD\n*Early bird pricing $160 USD paid by Jan 20*\nDrop in $30 USD (first class in each series only )\n\n• No one turned away due to finances\, ask about scholarships \nRegistration: must pre-register\n• Here online or\,\n• Email: support@somaticsanctuary.com\n• Phone: +1 (805) 633- 9230 \nUpon registration you will receive the call details. \nPreparation:\n• Connect to audio call by phone or online\n• Set up own mat\n• Allow for at least 2-hours quiet time\n• Create uninterrupted space where you can nourish and plug into your own essence\n• Good news\, you get to keep the recordings for life! \nSign in Link \n\n\n\n\n\n	Related
URL:https://www.ojaihub.com/event/somatic-sanctuary-continuum-movement-tele-dive-2022-02-23/
LOCATION:Somatic Sanctuary\, 410 West Ojai Avenue\, Ojai\, CA\, 93023\, United States
CATEGORIES:Healing & Wellness (H),Virtual
ATTACH;FMTTYPE=image/jpeg:https://www.ojaihub.com/wp-content/uploads/2022/01/sarah-1.jpg
ORGANIZER;CN="Somatic%20Sanctuary":MAILTO:support@somaticsanctuary.com
END:VEVENT
END:VCALENDAR