BEGIN:VCALENDAR
VERSION:2.0
PRODID:-//Ojai Hub - ECPv5.16.1.1//NONSGML v1.0//EN
CALSCALE:GREGORIAN
METHOD:PUBLISH
X-WR-CALNAME:Ojai Hub
X-ORIGINAL-URL:https://www.ojaihub.com
X-WR-CALDESC:Events for Ojai Hub
BEGIN:VTIMEZONE
TZID:America/Los_Angeles
BEGIN:DAYLIGHT
TZOFFSETFROM:-0800
TZOFFSETTO:-0700
TZNAME:PDT
DTSTART:20210314T100000
END:DAYLIGHT
BEGIN:STANDARD
TZOFFSETFROM:-0700
TZOFFSETTO:-0800
TZNAME:PST
DTSTART:20211107T090000
END:STANDARD
END:VTIMEZONE
BEGIN:VEVENT
DTSTART;TZID=America/Los_Angeles:20211210T063000
DTEND;TZID=America/Los_Angeles:20211210T080000
DTSTAMP:20260421T112258
CREATED:20200730T202325Z
LAST-MODIFIED:20221230T021342Z
UID:48065-1639117800-1639123200@www.ojaihub.com
SUMMARY:TOASTMASTERS CLUB - virtual meetup
DESCRIPTION:Join us!\nStart off your Friday mornings with a lively\, interesting and challenging splash. Whether you’re panicked about speaking in front of others or a more experienced speaker looking to enhance your skills\, you’ll find a welcoming\, supportive\, even fun environment. Guests are always welcome and we’re meeting these days via Zoom\, so you can join us from your kitchen\, living room or back yard! \nContact Kerry– ojaibooklady@gmail.com for login and more info. \nFacebook: https://www.facebook.com/OjaiValleyToastmasters/ \nWebsite: https://4717.toastmastersclubs.org/
URL:https://www.ojaihub.com/event/toastmasters-club-virtual-meetup-2021-12-10/
LOCATION:Online\, Ojai\, CA\, 93023\, United States
CATEGORIES:Gatherings
ATTACH;FMTTYPE=image/jpeg:https://www.ojaihub.com/wp-content/uploads/2020/07/toasty.jpg
ORGANIZER;CN="Ojai%20Toastmasters%20Club":MAILTO:Banfield11@gmail.com
END:VEVENT
BEGIN:VEVENT
DTSTART;TZID=America/Los_Angeles:20211210T080000
DTEND;TZID=America/Los_Angeles:20211210T170000
DTSTAMP:20260421T112258
CREATED:20200327T191040Z
LAST-MODIFIED:20221230T024915Z
UID:53964-1639123200-1639155600@www.ojaihub.com
SUMMARY:STARBORN WELLNESS - In-Studio/Online Classes
DESCRIPTION:STARBORN WELLNESS\n\nOPEN FOR IN-STUDIO CLASSES\,\n​COMMUNITY EVENTS\,\nand\n​STUDIO RENTALS\n\n\n\n\n\nDANCE CARDIO – ZUMBA – BELLYDANCE – AERIAL YOGA – CARDIO BLAST – BALLET BARRE – AERIAL\n​& MUCH MORE\n\n\n\n\n\n\n\n\n\n\n\n\n\n\n\n\n\n\n\n\n\n\n\n\n\n\n\n\n\n\n\n\n\n\n\n\n\nPLEASE DO SIGNUP FOR CLASSES SO THAT WE CAN BE BETTER PREPARED TO RECEIVE YOU\n\nPlease visit our website for the most up to date schedule:\nhttp://www.starbornwellnessojai.com/ 
URL:https://www.ojaihub.com/event/hamsa-studio-online-classes-2021-12-10/
LOCATION:Starborn Wellness\, 109 East El Roblar Drive\, Ojai\, CA\, 93023\, United States
CATEGORIES:Healing & Wellness (H),Learning
ATTACH;FMTTYPE=image/jpeg:https://www.ojaihub.com/wp-content/uploads/2020/03/a-wonderful-workshop.jpg
ORGANIZER;CN="Starborn%20Wellness%20%28formerly%20Hamsa%20Studio%29":MAILTO:mail@starbornwellnessojai.com
END:VEVENT
BEGIN:VEVENT
DTSTART;TZID=America/Los_Angeles:20211210T080000
DTEND;TZID=America/Los_Angeles:20211210T091500
DTSTAMP:20260421T112258
CREATED:20200917T204151Z
LAST-MODIFIED:20220128T012238Z
UID:48731-1639123200-1639127700@www.ojaihub.com
SUMMARY:LIGHT AND SPACE - Yoga in the Park
DESCRIPTION:Align + Flow at Sarzotti Park\n\nThis class takes place at the South-East corner of Sarzotti Park. Please bring your own mat\, water and any props you require. We will be social distancing\, so make sure to respect everyone’s personal space and remain 6 feet apart from each other! We look forward to reuniting!\n\n\n\n\n\n\n “Yoga in the Park“\nInstructors:  Light and Space Yoga teachers\nLocation: Sarzotti Park under the oak trees\nContact: lightandspaceyoga.com\n(must sign up prior online)\nstudio@lightandspaceyoga.com\n\n\n\n\n\n\n\n\n\n$20 in person classes. Stream online for $10\n\nSign up here https://www.lightandspaceyoga.com/yoga-schedule\nor Venmo @lightandspace\n\nFriday 9:00 -10:15 am Align + Flow w/ Gina Zimmerman\nSaturday 10:30 -11:45 am Shivakali Yoga w/ Serge Bandura\nSunday 9:00 – 10:15 am Sunday Yoga w/ Lauren Duke\nMonday 9:00 – 10:15 am Shadow Light w/ Kate Greer Dickson\n\nSunday Nov. 22nd 2:00pm-4:00pm Special Power Yoga Masterclass w/ Bryan Kest $40\n\n\n\n\n\nClick HERE to book and for more information.
URL:https://www.ojaihub.com/event/light-and-space-align-flow-at-sarzotti-park-2021-12-10/
LOCATION:Sarzotti Park\, 510 Park Road\, Ojai\, CA\, 93023\, United States
CATEGORIES:Gatherings,Healing & Wellness (H),Learning
ATTACH;FMTTYPE=image/png:https://www.ojaihub.com/wp-content/uploads/2020/09/2020-09-18_03-36-17.png
ORGANIZER;CN="Light%20and%20Space":MAILTO:STUDIO@LIGHTANDSPACEYOGA.COM
END:VEVENT
BEGIN:VEVENT
DTSTART;TZID=America/Los_Angeles:20211210T090000
DTEND;TZID=America/Los_Angeles:20211210T110000
DTSTAMP:20260421T112258
CREATED:20210617T215205Z
LAST-MODIFIED:20220128T003613Z
UID:46060-1639126800-1639134000@www.ojaihub.com
SUMMARY:BRYANT STREET GYM - Fitness Classes
DESCRIPTION:Bryant street gym has been a staple community gym in Ojai for over 40 years. It is a fully equipped gym with Free weights\, Weighted Machines\, Cardio machines\, Outdoors functional training\, Classes\, and a Pilates Studio. In addition to our gym we offer Personal Training\, Private semi-group water aerobics\, and Water therapy. You do not need to be a member to take classes. Drop-ins are welcome and are $15 for the day (this includes the classes and facility for the day!). Please visit our website for more information at www.Bryantstgym.com or follow us on Social Media for daily trends and updates @Bryantstreetgym
URL:https://www.ojaihub.com/event/bryant-street-gym-fitness-classes-2021-12-10/
LOCATION:Bryant Street Gym\, 406-Q Bryant Circle\, Ojai\, CA\, 93023\, United States
CATEGORIES:Healing & Wellness (H),Learning
ATTACH;FMTTYPE=image/png:https://www.ojaihub.com/wp-content/uploads/2021/06/unnamed-2.png
ORGANIZER;CN="Bryant%20Street%20Health%20%26%20Fitness":MAILTO:bryantstgym@gmail.com
END:VEVENT
BEGIN:VEVENT
DTSTART;TZID=America/Los_Angeles:20211210T103000
DTEND;TZID=America/Los_Angeles:20211210T110000
DTSTAMP:20260421T112258
CREATED:20200507T193112Z
LAST-MODIFIED:20221230T024721Z
UID:48792-1639132200-1639134000@www.ojaihub.com
SUMMARY:OJAI LIBRARY - Online Activities for Children (free)
DESCRIPTION:Virtual Events brought to you by our Ventura County Library: \n\nMondays – 10:30 am – Globetrotting Storytime\nMondays – 4 pm – Minecraft Mondays\nMondays – 7 pm – Virtual Ukulele Jam\nTuesdays – 7 pm – Bilingual Bedtime Stories\nWednesdays – 10:30 am STEAM Storytime\nWednesdays – 3:30 pm – Art Lessons\nThursdays – 7:30 pm – Virtual Open Mic\nFridays – 10:30 am – Mobile Library Storytime\nSaturday – 10:30 am – Storytime\n\nSee our CALENDAR for most up to date info and times.\n\nVentura County Library’s YouTube channel for anytime storytimes! Virtual songs\, STEAM activities\, and more featuring your favorite Ventura County local librarians\, including Ojai’s Youth Librarian Ms. Coco!
URL:https://www.ojaihub.com/event/ojai-library-storytime-for-children-online-2021-12-10/
LOCATION:Online\, Ojai\, CA\, 93023\, United States
CATEGORIES:Citizenship,Family Events (H)
ATTACH;FMTTYPE=image/png:https://www.ojaihub.com/wp-content/uploads/2020/05/342-3423499_ventura-county-library-logo-green-mountains-blue-hd.png
END:VEVENT
BEGIN:VEVENT
DTSTART;TZID=America/Los_Angeles:20211210T110000
DTEND;TZID=America/Los_Angeles:20211210T120000
DTSTAMP:20260421T112258
CREATED:20200327T191910Z
LAST-MODIFIED:20220128T005454Z
UID:48850-1639134000-1639137600@www.ojaihub.com
SUMMARY:LIGHT AND SPACE - Online Classes
DESCRIPTION:LIGHT AND SPACE – Online Classes\n\n\nOnline classes are only $10 each.  We are also offering an ‘online’ 10-Pack of classes for just $85.  If you have an active membership you can use that to sign up for unlimited practice the same as usual.  And if you have an active class package\, you can also use those classes\, or save them for in-studio! \nTo purchase classes\, simply go to our website  and click the SIGN UP button next to the class you’d like to take. 🙂 \n\n\n\n\n\n\n\n\n\n\n\n\n\n\n\n\n\n\n\n\n\n\n\n\n\n\n\n\n\n\n\n\n\n\n\n\n\n\n\n\n\n\n\n\n\n\n\n\n\n\n\n\n\nSee our full schedule HERE\n\n\n\n\n\n\n\n\n\n\n\n\n\n\n\n\n\nNote: If you are not prepared to participate in physically challenging activity\, consider starting with a level 1 or 1-2 class. Remember\, yoga is a science of the mind/spirit\, the body is only an entry point… Be patient + go easy. \nCLASS LEVELS (1\, 2\, 3\, ALL)\nLevel 1: A class geared towards moving a bit slower\, with intention\, and experimenting with core concepts of yoga. \nLevel 2: An intermediate class and generally requires some understanding of yoga\, with practice flowing in and out of postures. \nLevel 3: A more advanced practice with regards to sequencing\, strength building and stretching. \nAll Levels classes may have a bit of all the above within them\, including comprehensive instruction and options to modify for those a bit newer\, and challenging moments for those adept at the practice. \nSplit level classes (1-2\, 2-3) offer a combination of the elements above.
URL:https://www.ojaihub.com/event/light-and-space-online-classes-2021-12-10/
LOCATION:Online\, Ojai\, CA\, 93023\, United States
CATEGORIES:Learning
ATTACH;FMTTYPE=image/jpeg:https://www.ojaihub.com/wp-content/uploads/2020/03/image-asset.jpg
ORGANIZER;CN="Light%20and%20Space":MAILTO:STUDIO@LIGHTANDSPACEYOGA.COM
END:VEVENT
BEGIN:VEVENT
DTSTART;TZID=America/Los_Angeles:20211210T160000
DTEND;TZID=America/Los_Angeles:20211210T170000
DTSTAMP:20260421T112258
CREATED:20210722T153344Z
LAST-MODIFIED:20220211T065331Z
UID:49875-1639152000-1639155600@www.ojaihub.com
SUMMARY:OJAI VALLEY TAEKWONDO ACADEMY - Lessons
DESCRIPTION:Focusing on creating well rounded Martial Artists using traditional TaeKwonDo as the foundation\, students at Ojai Valley Taekwondo Academy will discover the many health benefits including strength development\, improved flexibility and stamina\, self-defense skills and overall improved general fitness.\nOur Juniors program is designed to support our focus on academic achievement as well as contribution to family and the community. \nOjai Taekwondo Academy instructors work hand in hand with school teachers and parents to ensure a well balanced and focused development process for each child\, making them confident\, educated and well rounded future leaders of tomorrow. \n  \nClass Times at the Academy:  Effective 1/3/2022 \nMonday and Wednesday\n3:30 to 4:00 Cubs\n4:15 to 5:00 Jr. White & Yellow\n5:15 to 6:00 Jr. Green\, Blue\, Purple\n6:15 to 7:00 Jr.  Brown\, Red & Black\n7:15 to 8:15 Teens and Adults \nTuesday & Thursday\n3:30 to 4:15 Jr. Green\, Blue & Purple\n4:30 to 5:00 Cubs\n5:15 to 6:00 Jr. Brown\, Red & Black\n6:15 to 7:00 Jr. White & Yellow\n7:15 to 8:15 Teens and Adults \nFriday\n3:30 to 4:00 Cubs\n4:15 to 5:00 Jr. White & Yellow\n5:15 to 6:00 Jr. Green\, Blue\, Purple\n6:15 to 7:00 Jr.  Brown\, Red & Black
URL:https://www.ojaihub.com/event/ojai-valley-taekwondo-academy-lessons-2021-12-10/
LOCATION:Ojai Valley TaeKwonDo Academy\, 811 E Ojai Ave\, Ojai\, CA\, 93023\, United States
CATEGORIES:Family Events (H),Learning,Outdoors
ATTACH;FMTTYPE=image/jpeg:https://www.ojaihub.com/wp-content/uploads/2021/07/download.jpg
ORGANIZER;CN="Ojai%20Valley%20TaeKwonDo%20Academy":MAILTO:ojaitkd@gmail.com
END:VEVENT
BEGIN:VEVENT
DTSTART;TZID=America/Los_Angeles:20211210T173000
DTEND;TZID=America/Los_Angeles:20211210T203000
DTSTAMP:20260421T112258
CREATED:20211203T012745Z
LAST-MODIFIED:20211203T012748Z
UID:50867-1639157400-1639168200@www.ojaihub.com
SUMMARY:OJAI ART CENTER THEATER - Our Home for the Holidays Fundraiser
DESCRIPTION:A HOME FOR THE HOLIDAYS Fundraiser\nOjai’s sense of community is one of the most important reasons many people live here. After the Thomas Fire\, the landslides\, and now as we seem to be rounding the corner on the pandemic\, community support and celebrations are in order. For the holidays\, the Ojai Art Center Theater offers a weekend of variety entertainment featuring locals only -only ages six into their 70s. The “A Home for the Holidays” celebration runs December 10 – 12 with evening performances at 7 pm on Friday and Saturday and a matinee on Sunday at 2 pm. This is a fundraiser for the theater and a donation of $10 is requested. Tickets are available online at OjaiACT.org or by calling 805-640-8797. \n“Our goal\,” said the theater’s artistic director\, Tracey Williams Sutton\, “is to showcase the many performing talents we have in this beautiful valley. Entertainment includes singing both duets and soloists\, monologues\, and more. A creative team joined me in collaborating on different segments of the show\, which includes Gai Jones\, Sue Barry\, Kelly Hollis\, Jill Dolan\, Shannon Penrith\, and Jerry Montanez. The musical selection is quite varied. Some well-known songs (O Holy Night\, Santa Baby\, We Need a Little Christmas) and some unusual and fun songs not heard that often (I Wanna Hippopotamus for Christmas!) and other surprises.” \nIn addition to the show\, a pre-show of entertainment by local musicians is planned. Friday night\, Dianne Miller will be performing\, and Saturday night\, Ojai Madrigali. Both performances begin at 6:30 pm. \nHelp of Ojai\, which recently moved across the street from the Art Center\, will be collecting canned goods. Audience members are asked to bring a couple of items to donate. In addition\, the Humane Society will be at the Sunday matinee highlighting several pets in need of a new\, loving home. \nFor an evening or afternoon of holiday cheer\, don’t miss the “A Home for the Holidays” celebration\, December 10-12\, at the Ojai Art Center Theater\, 113 S. Montgomery Street. A donation of $10 is requested\, and tickets are available at OjaiACT.org or by calling 805-640-8797.
URL:https://www.ojaihub.com/event/ojai-art-center-theater-our-home-for-the-holidays-fundraiser/
LOCATION:Ojai Art Center Theatre\, 113 S Montgomery Street\, Ojai\, CA\, 93023
CATEGORIES:Charity,Citizenship,Featured (H),Featured Event,Gatherings,Music (H),Performances*
ATTACH;FMTTYPE=image/png:https://www.ojaihub.com/wp-content/uploads/2021/12/unnamed-1.png
END:VEVENT
END:VCALENDAR