BEGIN:VCALENDAR
VERSION:2.0
PRODID:-//Ojai Hub - ECPv5.16.1.1//NONSGML v1.0//EN
CALSCALE:GREGORIAN
METHOD:PUBLISH
X-WR-CALNAME:Ojai Hub
X-ORIGINAL-URL:https://www.ojaihub.com
X-WR-CALDESC:Events for Ojai Hub
BEGIN:VTIMEZONE
TZID:America/Los_Angeles
BEGIN:DAYLIGHT
TZOFFSETFROM:-0800
TZOFFSETTO:-0700
TZNAME:PDT
DTSTART:20210314T100000
END:DAYLIGHT
BEGIN:STANDARD
TZOFFSETFROM:-0700
TZOFFSETTO:-0800
TZNAME:PST
DTSTART:20211107T090000
END:STANDARD
END:VTIMEZONE
BEGIN:VEVENT
DTSTART;TZID=America/Los_Angeles:20211212T080000
DTEND;TZID=America/Los_Angeles:20211212T091500
DTSTAMP:20260421T142610
CREATED:20200917T204151Z
LAST-MODIFIED:20220128T012247Z
UID:48738-1639296000-1639300500@www.ojaihub.com
SUMMARY:LIGHT AND SPACE - Yoga in the Park
DESCRIPTION:Align + Flow at Sarzotti Park\n\nThis class takes place at the South-East corner of Sarzotti Park. Please bring your own mat\, water and any props you require. We will be social distancing\, so make sure to respect everyone’s personal space and remain 6 feet apart from each other! We look forward to reuniting!\n\n\n\n\n\n\n “Yoga in the Park“\nInstructors:  Light and Space Yoga teachers\nLocation: Sarzotti Park under the oak trees\nContact: lightandspaceyoga.com\n(must sign up prior online)\nstudio@lightandspaceyoga.com\n\n\n\n\n\n\n\n\n\n$20 in person classes. Stream online for $10\n\nSign up here https://www.lightandspaceyoga.com/yoga-schedule\nor Venmo @lightandspace\n\nFriday 9:00 -10:15 am Align + Flow w/ Gina Zimmerman\nSaturday 10:30 -11:45 am Shivakali Yoga w/ Serge Bandura\nSunday 9:00 – 10:15 am Sunday Yoga w/ Lauren Duke\nMonday 9:00 – 10:15 am Shadow Light w/ Kate Greer Dickson\n\nSunday Nov. 22nd 2:00pm-4:00pm Special Power Yoga Masterclass w/ Bryan Kest $40\n\n\n\n\n\nClick HERE to book and for more information.
URL:https://www.ojaihub.com/event/light-and-space-align-flow-at-sarzotti-park-2021-12-12/
LOCATION:Sarzotti Park\, 510 Park Road\, Ojai\, CA\, 93023\, United States
CATEGORIES:Gatherings,Healing & Wellness (H),Learning
ATTACH;FMTTYPE=image/png:https://www.ojaihub.com/wp-content/uploads/2020/09/2020-09-18_03-36-17.png
ORGANIZER;CN="Light%20and%20Space":MAILTO:STUDIO@LIGHTANDSPACEYOGA.COM
END:VEVENT
BEGIN:VEVENT
DTSTART;TZID=America/Los_Angeles:20211212T090000
DTEND;TZID=America/Los_Angeles:20211212T130000
DTSTAMP:20260421T142610
CREATED:20200417T204948Z
LAST-MODIFIED:20221111T201613Z
UID:50066-1639299600-1639314000@www.ojaihub.com
SUMMARY:Certified Farmer’s Market
DESCRIPTION:Every Sunday rain or shine from 9-1pm behind the arcade\, Ojai farmers market their bounty. This open air market features locally grown produce\, plants\, musicians and handmade items. Local makers also sell their handmade goods\, including soaps\, baskets\, beeswax candles and olive oil.\nEvery Sunday you can expect to find:\n\nLocally grown fresh fruits & vegetables harvested daily.\nJams\, Honey\, Bees Wax Candles\nBreads\nGourmet Desserts\nFresh Locally Caught Seafood\nNatural Meats\nOlive and Walnut Oil\nFree Range Eggs and Organic Chicken\nNuts & Dried Fruit\nPrepared Food\nRaw Chocolate\nFresh Cut Flowers\nPlants\, Orchids &\nHandmade Soap\n\n \n  \n 
URL:https://www.ojaihub.com/event/certified-farmers-market-2021-12-12/
LOCATION:Ojai Downtown\, 300 E. Matilija Street\, Ojai\, CA\, 93023\, United States
CATEGORIES:Food & Wine (H),Gatherings,Outdoors
ATTACH;FMTTYPE=image/jpeg:https://www.ojaihub.com/wp-content/uploads/2020/04/Ojai-certified-farers-market.jpg
ORGANIZER;CN="Cynthia%20Korman":MAILTO:ojaifarmersmarket@cox.net
END:VEVENT
BEGIN:VEVENT
DTSTART;TZID=America/Los_Angeles:20211212T110000
DTEND;TZID=America/Los_Angeles:20211212T120000
DTSTAMP:20260421T142610
CREATED:20200327T191910Z
LAST-MODIFIED:20220128T005459Z
UID:48854-1639306800-1639310400@www.ojaihub.com
SUMMARY:LIGHT AND SPACE - Online Classes
DESCRIPTION:LIGHT AND SPACE – Online Classes\n\n\nOnline classes are only $10 each.  We are also offering an ‘online’ 10-Pack of classes for just $85.  If you have an active membership you can use that to sign up for unlimited practice the same as usual.  And if you have an active class package\, you can also use those classes\, or save them for in-studio! \nTo purchase classes\, simply go to our website  and click the SIGN UP button next to the class you’d like to take. 🙂 \n\n\n\n\n\n\n\n\n\n\n\n\n\n\n\n\n\n\n\n\n\n\n\n\n\n\n\n\n\n\n\n\n\n\n\n\n\n\n\n\n\n\n\n\n\n\n\n\n\n\n\n\n\nSee our full schedule HERE\n\n\n\n\n\n\n\n\n\n\n\n\n\n\n\n\n\nNote: If you are not prepared to participate in physically challenging activity\, consider starting with a level 1 or 1-2 class. Remember\, yoga is a science of the mind/spirit\, the body is only an entry point… Be patient + go easy. \nCLASS LEVELS (1\, 2\, 3\, ALL)\nLevel 1: A class geared towards moving a bit slower\, with intention\, and experimenting with core concepts of yoga. \nLevel 2: An intermediate class and generally requires some understanding of yoga\, with practice flowing in and out of postures. \nLevel 3: A more advanced practice with regards to sequencing\, strength building and stretching. \nAll Levels classes may have a bit of all the above within them\, including comprehensive instruction and options to modify for those a bit newer\, and challenging moments for those adept at the practice. \nSplit level classes (1-2\, 2-3) offer a combination of the elements above.
URL:https://www.ojaihub.com/event/light-and-space-online-classes-2021-12-12/
LOCATION:Online\, Ojai\, CA\, 93023\, United States
CATEGORIES:Learning
ATTACH;FMTTYPE=image/jpeg:https://www.ojaihub.com/wp-content/uploads/2020/03/image-asset.jpg
ORGANIZER;CN="Light%20and%20Space":MAILTO:STUDIO@LIGHTANDSPACEYOGA.COM
END:VEVENT
BEGIN:VEVENT
DTSTART;TZID=America/Los_Angeles:20211212T110000
DTEND;TZID=America/Los_Angeles:20211212T160000
DTSTAMP:20260421T142610
CREATED:20211007T230532Z
LAST-MODIFIED:20211030T000949Z
UID:49455-1639306800-1639324800@www.ojaihub.com
SUMMARY:CANVAS AND PAPER – Exhibit: ivon hitchens: nudes
DESCRIPTION:CANVAS AND PAPER – Exhibit: ivon hitchens: nudes\n\n\noctober 14 – december 12 \n\nivon hitchens: nudes\n\nexhibit at canvas and paper\n311 north montgomery street\, ojai\ngallery hours: thursday – sunday\, noon – 5 pm\nfree admission\n\nfor more information visit canvasandpaper.org \n\ncanvas and paper is a non-profit exhibition space showing paintings and drawings from the 20th century and earlier in thematic and single artist exhibits.
URL:https://www.ojaihub.com/event/canvas-and-paper-exhibit-ivon-hitchens-nudes-2021-12-12/
LOCATION:Canvas and Paper\, 311 North Montgomery Street\, Ojai\, CA\, 93023\, United States
CATEGORIES:Art Events
ATTACH;FMTTYPE=image/jpeg:https://www.ojaihub.com/wp-content/uploads/2021/10/Hitchens-1948-at-canvasandpaper_with-caption.jpg
ORGANIZER;CN="Canvas%20and%20Paper":MAILTO:info@canvasandpaper.org
END:VEVENT
BEGIN:VEVENT
DTSTART;TZID=America/Los_Angeles:20211212T120000
DTEND;TZID=America/Los_Angeles:20211212T153000
DTSTAMP:20260421T142610
CREATED:20211119T011816Z
LAST-MODIFIED:20211119T011816Z
UID:50874-1639310400-1639323000@www.ojaihub.com
SUMMARY:STARBORN WELLNESS - Psychic Faire
DESCRIPTION:STARBORN PSYCHIC FAIRY\nSunday\, Nov 28th. 1-4.30pm\, and Dec 12th with all of your favorite Readers\, Healers and Vendors joining us for another magical day of enlightenment\n\n\n109 E. El Roblar Drive\nOjai CA 93023\n805-212-9678\nstarbornwellnessojai.com
URL:https://www.ojaihub.com/event/starborn-wellness-psychic-faire-2021-12-12/
LOCATION:Starborn Wellness\, 109 El Roblar Drive\, Ojai\, CA\, 93023\, United States
CATEGORIES:Gatherings
ATTACH;FMTTYPE=image/jpeg:https://www.ojaihub.com/wp-content/uploads/2021/11/247994783_2194093797399405_6115586454215182960_n.jpg
ORGANIZER;CN="Starborn%20Wellness":MAILTO:tracey@starbornhealing.com
END:VEVENT
BEGIN:VEVENT
DTSTART;TZID=America/Los_Angeles:20211212T130000
DTEND;TZID=America/Los_Angeles:20211212T160000
DTSTAMP:20260421T142610
CREATED:20211203T012745Z
LAST-MODIFIED:20211203T012745Z
UID:50871-1639314000-1639324800@www.ojaihub.com
SUMMARY:OJAI ART CENTER THEATER - Our Home for the Holidays Fundraiser
DESCRIPTION:A HOME FOR THE HOLIDAYS Fundraiser\nOjai’s sense of community is one of the most important reasons many people live here. After the Thomas Fire\, the landslides\, and now as we seem to be rounding the corner on the pandemic\, community support and celebrations are in order. For the holidays\, the Ojai Art Center Theater offers a weekend of variety entertainment featuring locals only -only ages six into their 70s. The “A Home for the Holidays” celebration runs December 10 – 12 with evening performances at 7 pm on Friday and Saturday and a matinee on Sunday at 2 pm. This is a fundraiser for the theater and a donation of $10 is requested. Tickets are available online at OjaiACT.org or by calling 805-640-8797. \n“Our goal\,” said the theater’s artistic director\, Tracey Williams Sutton\, “is to showcase the many performing talents we have in this beautiful valley. Entertainment includes singing both duets and soloists\, monologues\, and more. A creative team joined me in collaborating on different segments of the show\, which includes Gai Jones\, Sue Barry\, Kelly Hollis\, Jill Dolan\, Shannon Penrith\, and Jerry Montanez. The musical selection is quite varied. Some well-known songs (O Holy Night\, Santa Baby\, We Need a Little Christmas) and some unusual and fun songs not heard that often (I Wanna Hippopotamus for Christmas!) and other surprises.” \nIn addition to the show\, a pre-show of entertainment by local musicians is planned. Friday night\, Dianne Miller will be performing\, and Saturday night\, Ojai Madrigali. Both performances begin at 6:30 pm. \nHelp of Ojai\, which recently moved across the street from the Art Center\, will be collecting canned goods. Audience members are asked to bring a couple of items to donate. In addition\, the Humane Society will be at the Sunday matinee highlighting several pets in need of a new\, loving home. \nFor an evening or afternoon of holiday cheer\, don’t miss the “A Home for the Holidays” celebration\, December 10-12\, at the Ojai Art Center Theater\, 113 S. Montgomery Street. A donation of $10 is requested\, and tickets are available at OjaiACT.org or by calling 805-640-8797.
URL:https://www.ojaihub.com/event/ojai-art-center-theater-our-home-for-the-holidays-fundraiser-2021-12-12/
LOCATION:Ojai Art Center Theatre\, 113 S Montgomery Street\, Ojai\, CA\, 93023
CATEGORIES:Charity,Citizenship,Featured (H),Featured Event,Gatherings,Music (H),Performances*
ATTACH;FMTTYPE=image/png:https://www.ojaihub.com/wp-content/uploads/2021/12/unnamed-1.png
END:VEVENT
BEGIN:VEVENT
DTSTART;TZID=America/Los_Angeles:20211212T140000
DTEND;TZID=America/Los_Angeles:20211212T150000
DTSTAMP:20260421T142610
CREATED:20211104T184631Z
LAST-MODIFIED:20220831T215336Z
UID:50039-1639317600-1639321200@www.ojaihub.com
SUMMARY:ANTIGRAVITY WITH KIKI - Aerial yoga / AntiGravity fitness classes
DESCRIPTION:Aerial yoga / AntiGravity fitness classes in the heart of Ojai\nto inspire healthy living\, build community\, and excite your inner child!\n \nAntiGravity Decompression / Fundamentals class: Beginners antigravity yoga/fitness class where we will go through the fundamentals\, and build trust with the hammock and yourself. To fly you must first be willing to let go! This class includes poses which will decompress your spine through inversions and floating stretches in the antigravity hammock. All levels welcome.\n\nWednesdays 6:15pm-7:15pm\nSundays 2pm-3pm\n\n212 E Ojai Ave (studio is located through Kids of the Canyon – but class is for adults)\n\nBookings through antigravitywithkiki.com\n\nFor any questions\, please contact Kiki at agwithkiki@gmail.com or call/text 805-633-0662
URL:https://www.ojaihub.com/event/antigravity-with-kiki-aerial-yoga-antigravity-fitness-classes-2021-12-12/
LOCATION:Kids of the Canyon\, 212 E Ojai Ave\, Ojai\, CA\, 93023\, United States
CATEGORIES:Healing & Wellness (H),Learning
ATTACH;FMTTYPE=image/jpeg:https://www.ojaihub.com/wp-content/uploads/2021/11/kiki.jpeg
ORGANIZER;CN="AntiGravity%20with%20Kiki":MAILTO:agwithkiki@gmail.com
END:VEVENT
BEGIN:VEVENT
DTSTART;TZID=America/Los_Angeles:20211212T153000
DTEND;TZID=America/Los_Angeles:20211212T170000
DTSTAMP:20260421T142610
CREATED:20211203T011110Z
LAST-MODIFIED:20211203T011110Z
UID:50866-1639323000-1639328400@www.ojaihub.com
SUMMARY:OJAI VALLEY MUSEUM - Town Talks
DESCRIPTION:Town Talks\n  \nNot one\, but two Town Talks are coming your way this month. First up is author and photographer Chuck Graham. He has an award-winning\, gorgeous book\, Carizzo Plain available in our gift shop. He’ll be talking about mammals\, reptiles\, and amphibians and the threats they face during a talk illustrated with his beautiful images. \nDecember 5\, 4:30-6 pm Threatened Mammals\, Reptiles\, and Amphibians\nPurchase tickets here.\n\n————————————–\n\nNext up will be a panel of experts discussing how public and private lands are protected and the challenges they face. Bryant Baker\, Los Padres Forest Watch\, Tom Maloney\, Ojai Valley Land Conservancy\, and Alasdair Coyne\, Keep the Sespe Wild are sure to provide an interesting and informative Town Talk.\n\n\nDecember 12\, 4:30-6 pm Protection of Public and Private Land\nGet your tickets here.\n\n 
URL:https://www.ojaihub.com/event/ojai-valley-museum-town-talks-2021-12-12/
LOCATION:ojai museum\, Ojai\, CA\, 93023\, United States
CATEGORIES:Citizenship,Family Events (H),Learning
ATTACH;FMTTYPE=image/png:https://www.ojaihub.com/wp-content/uploads/2021/12/2021-12-03_06-59-57.png
ORGANIZER;CN="The%20Ojai%20Valley%20Museum":MAILTO:ojaimuseum@gmail.com
END:VEVENT
END:VCALENDAR