BEGIN:VCALENDAR
VERSION:2.0
PRODID:-//Ojai Hub - ECPv5.16.1.1//NONSGML v1.0//EN
CALSCALE:GREGORIAN
METHOD:PUBLISH
X-WR-CALNAME:Ojai Hub
X-ORIGINAL-URL:https://www.ojaihub.com
X-WR-CALDESC:Events for Ojai Hub
BEGIN:VTIMEZONE
TZID:America/Los_Angeles
BEGIN:DAYLIGHT
TZOFFSETFROM:-0800
TZOFFSETTO:-0700
TZNAME:PDT
DTSTART:20220313T100000
END:DAYLIGHT
BEGIN:STANDARD
TZOFFSETFROM:-0700
TZOFFSETTO:-0800
TZNAME:PST
DTSTART:20221106T090000
END:STANDARD
END:VTIMEZONE
BEGIN:VEVENT
DTSTART;TZID=America/Los_Angeles:20220923T120000
DTEND;TZID=America/Los_Angeles:20220923T170000
DTSTAMP:20260425T053005
CREATED:20220720T203848Z
LAST-MODIFIED:20220922T010823Z
UID:61282-1663934400-1663952400@www.ojaihub.com
SUMMARY:CANVAS AND PAPER - drawings: corot\, courbet\, millet
DESCRIPTION:CANVAS AND PAPER – drawings: corot\, courbet\, millet (july 28 – sept 25)\n\n\nexhibit\njuly 28 – september 25\n\ndrawings: \njean-baptiste-camille corot \ngustave courbet \njean-françois millet  \n\nat canvas and paper\n311 north montgomery street\, ojai\ngallery hours: thursday – sunday\, noon – 5 pm\nfree admission\n\nfor more information visit canvasandpaper.org \n\ncanvas and paper is a non-profit exhibition space showing paintings and drawings from the 20th century and earlier in thematic and single artist exhibits.
URL:https://www.ojaihub.com/event/canvas-and-paper-drawings-corot-courbet-millet-2022-09-23/
LOCATION:Canvas and Paper\, 311 North Montgomery Street\, Ojai\, CA\, 93023\, United States
CATEGORIES:Art Events
ATTACH;FMTTYPE=image/jpeg:https://www.ojaihub.com/wp-content/uploads/2022/07/unnamed-35.jpg
ORGANIZER;CN="Canvas%20and%20Paper":MAILTO:info@canvasandpaper.org
END:VEVENT
END:VCALENDAR