BEGIN:VCALENDAR
VERSION:2.0
PRODID:-//Ojai Hub - ECPv5.16.1.1//NONSGML v1.0//EN
CALSCALE:GREGORIAN
METHOD:PUBLISH
X-WR-CALNAME:Ojai Hub
X-ORIGINAL-URL:https://www.ojaihub.com
X-WR-CALDESC:Events for Ojai Hub
BEGIN:VTIMEZONE
TZID:America/Los_Angeles
BEGIN:DAYLIGHT
TZOFFSETFROM:-0800
TZOFFSETTO:-0700
TZNAME:PDT
DTSTART:20230312T100000
END:DAYLIGHT
BEGIN:STANDARD
TZOFFSETFROM:-0700
TZOFFSETTO:-0800
TZNAME:PST
DTSTART:20231105T090000
END:STANDARD
END:VTIMEZONE
BEGIN:VEVENT
DTSTART;TZID=America/Los_Angeles:20230915T100000
DTEND;TZID=America/Los_Angeles:20230915T110000
DTSTAMP:20260425T132904
CREATED:20230721T150909Z
LAST-MODIFIED:20230923T125128Z
UID:76587-1694772000-1694775600@www.ojaihub.com
SUMMARY:SECURE BEGINNINGS - Park Days
DESCRIPTION:Park Days with Secure Beginnings\nJoin Secure Beginnings for Park Days\, every Friday in August from 10-11am. Join our facilitator and other parents: receive parenting support. For Caregivers with children from pregnancy through age 5. Sarzotti Park by the playground. We’ll end our time with stories and songs. Donation suggested. www.securebeginnings.org.\n\n\n\n\n\n\n\nQuestions?  Info@securebeginnings.org\n\n\n\n\n 
URL:https://www.ojaihub.com/event/secure-beginnings-park-days-2-2023-09-15/
LOCATION:Sarzotti Park\, 510 Park Road\, Ojai\, CA\, 93023\, United States
CATEGORIES:Charity,Citizenship,Family Events (H),Healing & Wellness (H),Learning,Workshops (H)
ATTACH;FMTTYPE=image/jpeg:https://www.ojaihub.com/wp-content/uploads/2023/07/unnamed-23.jpg
ORGANIZER;CN="Secure%20Beginnings":MAILTO:info@securebeginnings.org
END:VEVENT
BEGIN:VEVENT
DTSTART;TZID=America/Los_Angeles:20230915T143000
DTEND;TZID=America/Los_Angeles:20230915T160000
DTSTAMP:20260425T132904
CREATED:20201008T202828Z
LAST-MODIFIED:20231225T215842Z
UID:75687-1694788200-1694793600@www.ojaihub.com
SUMMARY:FIRESTICK POTTERY - Pottery Classes
DESCRIPTION:Pottery Classes!\n  \nEveryday:  Adult wheel throwing class (+ classes on Friday) \nThurs/Fri/Sat: Kids hand building classes for 5-9 year olds \n  \nPlease Call Us To Register in advance: 805-272-8760
URL:https://www.ojaihub.com/event/firestick-pottery-kids-pottery-class-2023-02-22-2023-02-28-2023-04-04-2023-09-15/
LOCATION:Firestick Pottery\, 1804 Ojai Avenue\, Ojai\, CA\, 93023
CATEGORIES:Family Events (H),Learning
ATTACH;FMTTYPE=image/png:https://www.ojaihub.com/wp-content/uploads/2020/10/22449813_1914254318901176_4973878985245901975_n.png
ORGANIZER;CN="Firestick%20Pottery":MAILTO:info@firestickpottery.com
END:VEVENT
BEGIN:VEVENT
DTSTART;TZID=America/Los_Angeles:20230915T170000
DTEND;TZID=America/Los_Angeles:20230915T180000
DTSTAMP:20260425T132904
CREATED:20210722T153344Z
LAST-MODIFIED:20231202T074437Z
UID:76167-1694797200-1694800800@www.ojaihub.com
SUMMARY:OJAI VALLEY TAEKWONDO ACADEMY - Lessons
DESCRIPTION:Focusing on creating well rounded Martial Artists using traditional TaeKwonDo as the foundation\, students at Ojai Valley Taekwondo Academy will discover the many health benefits including strength development\, improved flexibility and stamina\, self-defense skills and overall improved general fitness.\nOur Juniors program is designed to support our focus on academic achievement as well as contribution to family and the community. \nOjai Taekwondo Academy instructors work hand in hand with school teachers and parents to ensure a well balanced and focused development process for each child\, making them confident\, educated and well rounded future leaders of tomorrow. \n  \nClass Times at the Academy:  \nMonday and Wednesday\n3:30 to 4:00 Cubs\n4:15 to 5:00 Jr. White & Yellow\n5:15 to 6:00 Jr. Green\, Blue\, Purple\n6:15 to 7:00 Jr.  Brown\, Red & Black\n7:15 to 8:15 Teens and Adults \nTuesday & Thursday\n3:30 to 4:15 Jr. Green\, Blue & Purple\n4:30 to 5:00 Cubs\n5:15 to 6:00 Jr. Brown\, Red & Black\n6:15 to 7:00 Jr. White & Yellow\n7:15 to 8:15 Teens and Adults \nFriday\n3:30 to 4:00 Cubs\n4:15 to 5:00 Jr. White & Yellow\n5:15 to 6:00 Jr. Green\, Blue\, Purple\n6:15 to 7:00 Jr.  Brown\, Red & Black
URL:https://www.ojaihub.com/event/ojai-valley-taekwondo-academy-lessons-2022-04-19-2023-02-27-2023-09-15/
LOCATION:Ojai Valley TaeKwonDo Academy\, 811 E Ojai Ave\, Ojai\, CA\, 93023\, United States
CATEGORIES:Family Events (H),Learning,Outdoors
ATTACH;FMTTYPE=image/jpeg:https://www.ojaihub.com/wp-content/uploads/2021/07/download.jpg
ORGANIZER;CN="Ojai%20Valley%20TaeKwonDo%20Academy":MAILTO:ojaitkd@gmail.com
END:VEVENT
END:VCALENDAR