BEGIN:VCALENDAR
VERSION:2.0
PRODID:-//Ojai Hub - ECPv5.16.1.1//NONSGML v1.0//EN
CALSCALE:GREGORIAN
METHOD:PUBLISH
X-WR-CALNAME:Ojai Hub
X-ORIGINAL-URL:https://www.ojaihub.com
X-WR-CALDESC:Events for Ojai Hub
BEGIN:VTIMEZONE
TZID:America/Los_Angeles
BEGIN:DAYLIGHT
TZOFFSETFROM:-0800
TZOFFSETTO:-0700
TZNAME:PDT
DTSTART:20230312T100000
END:DAYLIGHT
BEGIN:STANDARD
TZOFFSETFROM:-0700
TZOFFSETTO:-0800
TZNAME:PST
DTSTART:20231105T090000
END:STANDARD
END:VTIMEZONE
BEGIN:VEVENT
DTSTART;TZID=America/Los_Angeles:20231014T100000
DTEND;TZID=America/Los_Angeles:20231014T130000
DTSTAMP:20260421T172611
CREATED:20230915T225145Z
LAST-MODIFIED:20230915T225145Z
UID:76951-1697277600-1697288400@www.ojaihub.com
SUMMARY:HORSE HEART & CONNECTION - EFL workshop
DESCRIPTION:An Equine Facilitated Learning experience in Ojai\, California\n\nFREE THIS WEEKEND?\nIn case you are free this weekend\, we have a few spots left for our equine experience group session in Ojai\, on Saturday\, Sept 16\, 10am-1pm. \nSpending time with Red & Flash\, in the company of like-minded people\, these sessions are so heart opening\, grounding\, restorative.  The weather is wonderful here now\, and the Ojai Valley and Smarty Pants Ranch have wonderful way of soothing your nervous system. \nMany of you have come multiple times\, and I love how you’ve used “Horse\, Heart & Connection” as a reset\, and an opportunity to stay grounded in your intentions.\n\n\nUPCOMING WORKSHOPS\nGroup workshops\, 10am-1pm\, 4 people max: $100/pp \n\nSaturday Sept 16\n(2 spots left!)\nSaturday Oct 14\nSaturday Nov 11\nSaturday Dec 1\n\nEmail to register for one of these dates \nOr arrange a PRIVATE session\n(You alone\, or create group of up to 4 with your friends or family!) \nPrivates are typically two+ hours and are ideal for 1-4 participants. \n\nAn individual self-care day to reset & renew\nIntimacy building for couples\nFun friends outing\nGreat bonding for kids & families too!\n\nEmail to schedule a date.
URL:https://www.ojaihub.com/event/horse-heart-connection-efl-workshop-3-2023-10-14/
LOCATION:Private Ranch in Ojai\, Ojai\, CA\, 93023\, United States
CATEGORIES:Family Events (H),Learning,Outdoors,Workshops (H)
ATTACH;FMTTYPE=image/png:https://www.ojaihub.com/wp-content/uploads/2020/09/2020-09-11_01-08-19.png
END:VEVENT
BEGIN:VEVENT
DTSTART;TZID=America/Los_Angeles:20231014T100000
DTEND;TZID=America/Los_Angeles:20231014T170000
DTSTAMP:20260421T172611
CREATED:20231014T152842Z
LAST-MODIFIED:20231014T153522Z
UID:77719-1697277600-1697302800@www.ojaihub.com
SUMMARY:Ojai Day Mandala Painting
DESCRIPTION:Come\, help fill in the blanks!\nDon’t forget to wear your paint clothes\nCheck in at the paint table first.\nAll materials provided\, make sure to wear your paint clothes!\n\n\n\n\n\n\nTHE 31st OJAI DAY MANDALA WILL BE PAINTED IN LIBBEY PARK ON SATURDAY AND SUNDAY OCTOBER 14 & 15\n10 am to 5 pm\n\n\nThis is our visual art love letter from the community to the community. Your participation makes it that much better\, please feel welcome to come to the park and check in at the paint table.\n\n\nAll materials are provided and all we ask is that you follow a simple set of guidelines.\n\n\nPlease check in at the paint table and you will be guided in how and where to paint or how to help.\n\n\nWe have spaces for artists and “non-artists” alike. All ages are welcome\, children must be accompanied by an adult.\n\n\nFamilies are encouraged to come and paint together.\n\n\nWe also are asking for help at the paint table both days and for support at 9am to set up and at 4:30 pm to break down on Saturday and Sunday.\n\n\nPlease respond here with a comment below or email us at ojaidaymandala@gmail.com\n.\nThe pictures below are of our design in process. The first one is the design with the fountain in the middle and the second one is our design for the street which we are adapting\, as we have the fountain in the center rather than the cosmic rose. There are also photos from last year’s mandala painting.\n\n\nSponsored by the City of Ojai\nand your generous donations
URL:https://www.ojaihub.com/event/ojai-day-mandala-painting/
LOCATION:Libbey Park\, 205 E Ojai Ave\, Ojai\, CA\, 93023\, United States
CATEGORIES:Art Events,Citizenship,Family Events (H),Featured (H),Featured Event,Gatherings
ATTACH;FMTTYPE=image/jpeg:https://www.ojaihub.com/wp-content/uploads/2023/10/386350316_10232942065363135_7597610715056659964_n.jpg
END:VEVENT
BEGIN:VEVENT
DTSTART;TZID=America/Los_Angeles:20231014T143000
DTEND;TZID=America/Los_Angeles:20231014T160000
DTSTAMP:20260421T172611
CREATED:20201008T202828Z
LAST-MODIFIED:20231225T220014Z
UID:77189-1697293800-1697299200@www.ojaihub.com
SUMMARY:FIRESTICK POTTERY - Pottery Classes
DESCRIPTION:Pottery Classes!\n  \nEveryday:  Adult wheel throwing class (+ classes on Friday) \nThurs/Fri/Sat: Kids hand building classes for 5-9 year olds \n  \nPlease Call Us To Register in advance: 805-272-8760
URL:https://www.ojaihub.com/event/firestick-pottery-kids-pottery-class-2023-02-22-2023-02-28-2023-04-04-2023-10-14/
LOCATION:Firestick Pottery\, 1804 Ojai Avenue\, Ojai\, CA\, 93023
CATEGORIES:Family Events (H),Learning
ATTACH;FMTTYPE=image/png:https://www.ojaihub.com/wp-content/uploads/2020/10/22449813_1914254318901176_4973878985245901975_n.png
ORGANIZER;CN="Firestick%20Pottery":MAILTO:info@firestickpottery.com
END:VEVENT
END:VCALENDAR