BEGIN:VCALENDAR
VERSION:2.0
PRODID:-//Ojai Hub - ECPv5.16.1.1//NONSGML v1.0//EN
CALSCALE:GREGORIAN
METHOD:PUBLISH
X-WR-CALNAME:Ojai Hub
X-ORIGINAL-URL:https://www.ojaihub.com
X-WR-CALDESC:Events for Ojai Hub
BEGIN:VTIMEZONE
TZID:America/Los_Angeles
BEGIN:DAYLIGHT
TZOFFSETFROM:-0800
TZOFFSETTO:-0700
TZNAME:PDT
DTSTART:20230312T100000
END:DAYLIGHT
BEGIN:STANDARD
TZOFFSETFROM:-0700
TZOFFSETTO:-0800
TZNAME:PST
DTSTART:20231105T090000
END:STANDARD
END:VTIMEZONE
BEGIN:VEVENT
DTSTART;TZID=America/Los_Angeles:20230317T063000
DTEND;TZID=America/Los_Angeles:20230317T080000
DTSTAMP:20260425T044626
CREATED:20200730T202325Z
LAST-MODIFIED:20230505T232522Z
UID:71773-1679034600-1679040000@www.ojaihub.com
SUMMARY:TOASTMASTERS CLUB - virtual meetup
DESCRIPTION:Join us!\nStart off your Friday mornings with a lively\, interesting and challenging splash. Whether you’re panicked about speaking in front of others or a more experienced speaker looking to enhance your skills\, you’ll find a welcoming\, supportive\, even fun environment. Guests are always welcome and we’re meeting these days via Zoom\, so you can join us from your kitchen\, living room or back yard! \nContact Kerry– ojaibooklady@gmail.com for login and more info. \nFacebook: https://www.facebook.com/OjaiValleyToastmasters/ \nWebsite: https://4717.toastmastersclubs.org/
URL:https://www.ojaihub.com/event/toastmasters-club-virtual-meetup-2023-02-24-2023-03-17/
LOCATION:Online\, Ojai\, CA\, 93023\, United States
CATEGORIES:Gatherings
ATTACH;FMTTYPE=image/jpeg:https://www.ojaihub.com/wp-content/uploads/2020/07/toasty.jpg
ORGANIZER;CN="Ojai%20Toastmasters%20Club":MAILTO:Banfield11@gmail.com
END:VEVENT
BEGIN:VEVENT
DTSTART;TZID=America/Los_Angeles:20230317T093000
DTEND;TZID=America/Los_Angeles:20230317T110000
DTSTAMP:20260425T044626
CREATED:20220527T165508Z
LAST-MODIFIED:20220527T165508Z
UID:71003-1679045400-1679050800@www.ojaihub.com
SUMMARY:ALIGNMENT HEALINGS - Alignment Yoga and Qigong (Sarzotti Park)
DESCRIPTION:Alignment Yoga and Qigong\n\n\n\nLepeng has been teaching group Yoga and Pilates classes at gyms and yoga studios for the past 10 years. She has witnessed many people\, especially older people struggle in typical Yoga classes as well as other strenuous workout classes in the gym. Unless you have been consistently practice Yoga and workout regularly\, the typical yoga and pilates classes are not natural or even suitable for our bodies and it can also hurt us and cause unnecessary injuries. \nEven though she grew up in China\, Lepeng was not interested in practicing Qigong and Tai Qi until she is in her forties. She started to experience and understand the benefit of Qigong movement as she gets older and becomes more in tune with the subtle flow of  energy patterns in her body. According to ancient integral medical theory\, disease is the manifestation of energy disorder and aberration within the body. It is a state in which the various organs and the nervous system are functioning incorrectly or inadequately in a manner which is either too slow or fast\, too weak or strong. When the energy flows through the channels unimpeded and various organs are in a state of equilibrium\, one is healthy. If the energy becomes imbalanced or blocked\, disease manifests. Disease indicates that the energy flow needs to be corrected. Through the calmness and relaxation generated by Qigong movement\, the vitality which has been blocked within a tense and imbalanced body is released and allowed to restore and sustain natural health. \nLepeng designed this movement class to help people to enjoy movement in a way that feels good\, flows the energy and trains the mind.  And you don’t have to go fast\, be competitive and worry about injures. The class starts with gentle flow of Qigong to warm up the body and open up all the energy channels in the body\, then we use 6-feet wooden sticks to help us stretch in ways that we normally would not be able to without it. The last 30-minutes of  the class\, Lepeng lead people through some gentle yoga poses to strengthen and further stretch the entire body so you feel so relaxed and peaceful after the final relaxation pose on the ground. She truly believes this is a movement class almost everyone can benefit and enjoy. \n\n\n\nMonday 9:30am to 11am at Sarzotti park\nWednesday 9:30am to 11am at Sarzotti park\n\nFriday 9:30am to 11am at Sarzotti park\n\n\nPlease contact Lepeng at 818-853-3033 or email alignmenthealings@gmail.com for detailed information
URL:https://www.ojaihub.com/event/alignment-healings-alignment-yoga-and-qigong-sarzotti-park-2023-03-17/
LOCATION:Sarzotti Park\, 510 Park Road\, Ojai\, CA\, 93023\, United States
CATEGORIES:Gatherings,Healing & Wellness (H),Learning,Outdoors
ATTACH;FMTTYPE=image/jpeg:https://www.ojaihub.com/wp-content/uploads/2021/09/93156E4C-8E29-404A-A738-74B44935BBBA_1_201_a-scaled.jpeg
ORGANIZER;CN="Alignment%20Healings":MAILTO:alignmenthealings@gmail.com
END:VEVENT
BEGIN:VEVENT
DTSTART;TZID=America/Los_Angeles:20230317T100000
DTEND;TZID=America/Los_Angeles:20230317T120000
DTSTAMP:20260425T044626
CREATED:20230310T062425Z
LAST-MODIFIED:20230310T062425Z
UID:72180-1679047200-1679054400@www.ojaihub.com
SUMMARY:KROTONA SCHOOL - The Necessary Journey of Self-Transformation
DESCRIPTION:Ravi Ravindra \nThe Necessary Journey of Self-Transformation \nOn site and Zoom\, Eleven mornings 10-noon\, March 14-17 and 21-24 Tuesday-Friday\, March 28-March 30 Tuesday -Thursday  The one single lesson of all the scriptures and sacred writings is that unless searchers undergo a radical transformation of the whole of their being\, they cannot come to the Truth or God or the Real.  A searcher soon becomes deeply interested in the long but adventurous journey of self-transformation rather than the destination which always remains a Mystery.  Drawing from the traditional sacred literature\, Theosophical writings and the teachings of some modern sages\, we will explore the voyage of the necessary inner transformation. Single session $15 Series $150 \nRavi Ravindra is professor emeritus at Dalhousie University\, Halifax\, Canada\, where he taught in the departments of Physics\, Philosophy and Comparative Religion. He has authored many papers in physics\, philosophy and religion and several books\, including Pilgrim Soul; the Gospel of John in the Light of Indian Mysticism; Science and the Sacred; The Wisdom of Patanjali’s Yoga Sutras and The Bhagavad Gita: A Guide to Navigating the Battle of Life.
URL:https://www.ojaihub.com/event/krotona-school-the-necessary-journey-of-self-transformation-2023-03-17/
LOCATION:Online\, Ojai\, CA\, 93023\, United States
CATEGORIES:Gatherings,Virtual,Workshops (H)
ATTACH;FMTTYPE=image/jpeg:https://www.ojaihub.com/wp-content/uploads/2021/02/b980340a4132a55153be0cd5318daf19-scaled.jpg
ORGANIZER;CN="Krotona%20Institute":MAILTO:info@krotonainstitute.org
END:VEVENT
BEGIN:VEVENT
DTSTART;TZID=America/Los_Angeles:20230317T193000
DTEND;TZID=America/Los_Angeles:20230317T213000
DTSTAMP:20260425T044626
CREATED:20230310T044239Z
LAST-MODIFIED:20230310T044239Z
UID:72050-1679081400-1679088600@www.ojaihub.com
SUMMARY:OVATE - The FURYUS Collaborative
DESCRIPTION:The FURYUS Collaborative – It’s all the RAGE!\n\nMarch 10\, 11\, 12 and 17\, 18\, 19th\nFridays and Saturdays 7:30pm  Sundays at 2pm\nQ&A to follow\nTickets on sale now and going fast!\nOjai Valley Womens Club\n\n\nThe FURYUS Collaborative Project is an activist performance piece in response to the repeal of Roe v. Wade and the oppression of women\n\n\n        Listen to our podcast on Ojai Talk of the Town to find out more\n\nAre you angry\, frustrated\, tapped out\, or numb about what’s going on in the world?\n\nAre you feeling like you want to scream\, cry\, rage\, and wail against the thousands of years of gender-specific oppression and need an outlet that is creative and mindful?\n\n  Are you FURIOUS? We are….\n\n\n\n\nSYNOPSIS: \nThe FURYUS Collaborative Project weaves Classical Greek text\, spoken word\, song\, dance\, tableaux\, and verbatim theatre into an artistic activism performance piece.\n\nThe intended outcome is to raise awareness\, provide an artistic performance\, bring people together in supportive collaboration\, and ultimately create an artistic activist piece that can be utilized by other communities to create their own unique scripts inside the framework this first play has done.\nThe approach is a process focused on a clear director’s vision. This is NOT an anti-male piece.\n\nThe style of direction and teaching will be the KAST model.  See www/kastheatre.com for the method and environment of what to expect.\n\nDefinition of Furies: Greek Erinyes\, also called Eumenides\, in Greco-Roman mythology\, the underworld. They were three goddesses of vengeance and retribution who punished men for crimes against the natural order.\n————————————————————\n\nPURPOSE:\n\nThe FuryUs Collaborative Project has a multi-purpose:\n\n1.  Assisting theatrical artists to express their feelings in a safe space with focus and direction to process the traumas of misogyny and prejudices which have been so prevalent and consistent recently and throughout generations.\n2. To raise further awareness in communities about the theme and create social activism.\n3. To further the vision and mission that Art can create change.\n4. To develop theatre artists who are seeking a safe environment to fully engage with Art\, authentically and with mindfulness.\n\nWe are  filming the process as a documentary of how devised theater can make a positive difference in the world.\n\n  \n 
URL:https://www.ojaihub.com/event/ovate-the-furyus-collaborative-2023-03-17/
LOCATION:Ojai Valley Woman’s Club\, 441 East Ojai Avenue\, Ojai\, CA\, 93023\, United States
CATEGORIES:Entertainment,Gatherings,Performances*
ATTACH;FMTTYPE=image/png:https://www.ojaihub.com/wp-content/uploads/2023/03/c8t7vlh6fpeq73zrcvrb.png
ORGANIZER;CN="OVATE":MAILTO:create@ovate.org
END:VEVENT
END:VCALENDAR