BEGIN:VCALENDAR
VERSION:2.0
PRODID:-//Ojai Hub - ECPv5.16.1.1//NONSGML v1.0//EN
CALSCALE:GREGORIAN
METHOD:PUBLISH
X-WR-CALNAME:Ojai Hub
X-ORIGINAL-URL:https://www.ojaihub.com
X-WR-CALDESC:Events for Ojai Hub
BEGIN:VTIMEZONE
TZID:America/Los_Angeles
BEGIN:DAYLIGHT
TZOFFSETFROM:-0800
TZOFFSETTO:-0700
TZNAME:PDT
DTSTART:20230312T100000
END:DAYLIGHT
BEGIN:STANDARD
TZOFFSETFROM:-0700
TZOFFSETTO:-0800
TZNAME:PST
DTSTART:20231105T090000
END:STANDARD
END:VTIMEZONE
BEGIN:VEVENT
DTSTART;TZID=America/Los_Angeles:20230324T063000
DTEND;TZID=America/Los_Angeles:20230324T080000
DTSTAMP:20260422T130730
CREATED:20200730T202325Z
LAST-MODIFIED:20230505T232523Z
UID:71776-1679639400-1679644800@www.ojaihub.com
SUMMARY:TOASTMASTERS CLUB - virtual meetup
DESCRIPTION:Join us!\nStart off your Friday mornings with a lively\, interesting and challenging splash. Whether you’re panicked about speaking in front of others or a more experienced speaker looking to enhance your skills\, you’ll find a welcoming\, supportive\, even fun environment. Guests are always welcome and we’re meeting these days via Zoom\, so you can join us from your kitchen\, living room or back yard! \nContact Kerry– ojaibooklady@gmail.com for login and more info. \nFacebook: https://www.facebook.com/OjaiValleyToastmasters/ \nWebsite: https://4717.toastmastersclubs.org/
URL:https://www.ojaihub.com/event/toastmasters-club-virtual-meetup-2023-02-24-2023-03-24/
LOCATION:Online\, Ojai\, CA\, 93023\, United States
CATEGORIES:Gatherings
ATTACH;FMTTYPE=image/jpeg:https://www.ojaihub.com/wp-content/uploads/2020/07/toasty.jpg
ORGANIZER;CN="Ojai%20Toastmasters%20Club":MAILTO:Banfield11@gmail.com
END:VEVENT
BEGIN:VEVENT
DTSTART;TZID=America/Los_Angeles:20230324T093000
DTEND;TZID=America/Los_Angeles:20230324T110000
DTSTAMP:20260422T130730
CREATED:20220527T165508Z
LAST-MODIFIED:20220527T165508Z
UID:71004-1679650200-1679655600@www.ojaihub.com
SUMMARY:ALIGNMENT HEALINGS - Alignment Yoga and Qigong (Sarzotti Park)
DESCRIPTION:Alignment Yoga and Qigong\n\n\n\nLepeng has been teaching group Yoga and Pilates classes at gyms and yoga studios for the past 10 years. She has witnessed many people\, especially older people struggle in typical Yoga classes as well as other strenuous workout classes in the gym. Unless you have been consistently practice Yoga and workout regularly\, the typical yoga and pilates classes are not natural or even suitable for our bodies and it can also hurt us and cause unnecessary injuries. \nEven though she grew up in China\, Lepeng was not interested in practicing Qigong and Tai Qi until she is in her forties. She started to experience and understand the benefit of Qigong movement as she gets older and becomes more in tune with the subtle flow of  energy patterns in her body. According to ancient integral medical theory\, disease is the manifestation of energy disorder and aberration within the body. It is a state in which the various organs and the nervous system are functioning incorrectly or inadequately in a manner which is either too slow or fast\, too weak or strong. When the energy flows through the channels unimpeded and various organs are in a state of equilibrium\, one is healthy. If the energy becomes imbalanced or blocked\, disease manifests. Disease indicates that the energy flow needs to be corrected. Through the calmness and relaxation generated by Qigong movement\, the vitality which has been blocked within a tense and imbalanced body is released and allowed to restore and sustain natural health. \nLepeng designed this movement class to help people to enjoy movement in a way that feels good\, flows the energy and trains the mind.  And you don’t have to go fast\, be competitive and worry about injures. The class starts with gentle flow of Qigong to warm up the body and open up all the energy channels in the body\, then we use 6-feet wooden sticks to help us stretch in ways that we normally would not be able to without it. The last 30-minutes of  the class\, Lepeng lead people through some gentle yoga poses to strengthen and further stretch the entire body so you feel so relaxed and peaceful after the final relaxation pose on the ground. She truly believes this is a movement class almost everyone can benefit and enjoy. \n\n\n\nMonday 9:30am to 11am at Sarzotti park\nWednesday 9:30am to 11am at Sarzotti park\n\nFriday 9:30am to 11am at Sarzotti park\n\n\nPlease contact Lepeng at 818-853-3033 or email alignmenthealings@gmail.com for detailed information
URL:https://www.ojaihub.com/event/alignment-healings-alignment-yoga-and-qigong-sarzotti-park-2023-03-24/
LOCATION:Sarzotti Park\, 510 Park Road\, Ojai\, CA\, 93023\, United States
CATEGORIES:Gatherings,Healing & Wellness (H),Learning,Outdoors
ATTACH;FMTTYPE=image/jpeg:https://www.ojaihub.com/wp-content/uploads/2021/09/93156E4C-8E29-404A-A738-74B44935BBBA_1_201_a-scaled.jpeg
ORGANIZER;CN="Alignment%20Healings":MAILTO:alignmenthealings@gmail.com
END:VEVENT
BEGIN:VEVENT
DTSTART;TZID=America/Los_Angeles:20230324T100000
DTEND;TZID=America/Los_Angeles:20230324T120000
DTSTAMP:20260422T130730
CREATED:20230310T062425Z
LAST-MODIFIED:20230310T062425Z
UID:72184-1679652000-1679659200@www.ojaihub.com
SUMMARY:KROTONA SCHOOL - The Necessary Journey of Self-Transformation
DESCRIPTION:Ravi Ravindra \nThe Necessary Journey of Self-Transformation \nOn site and Zoom\, Eleven mornings 10-noon\, March 14-17 and 21-24 Tuesday-Friday\, March 28-March 30 Tuesday -Thursday  The one single lesson of all the scriptures and sacred writings is that unless searchers undergo a radical transformation of the whole of their being\, they cannot come to the Truth or God or the Real.  A searcher soon becomes deeply interested in the long but adventurous journey of self-transformation rather than the destination which always remains a Mystery.  Drawing from the traditional sacred literature\, Theosophical writings and the teachings of some modern sages\, we will explore the voyage of the necessary inner transformation. Single session $15 Series $150 \nRavi Ravindra is professor emeritus at Dalhousie University\, Halifax\, Canada\, where he taught in the departments of Physics\, Philosophy and Comparative Religion. He has authored many papers in physics\, philosophy and religion and several books\, including Pilgrim Soul; the Gospel of John in the Light of Indian Mysticism; Science and the Sacred; The Wisdom of Patanjali’s Yoga Sutras and The Bhagavad Gita: A Guide to Navigating the Battle of Life.
URL:https://www.ojaihub.com/event/krotona-school-the-necessary-journey-of-self-transformation-2023-03-24/
LOCATION:Online\, Ojai\, CA\, 93023\, United States
CATEGORIES:Gatherings,Virtual,Workshops (H)
ATTACH;FMTTYPE=image/jpeg:https://www.ojaihub.com/wp-content/uploads/2021/02/b980340a4132a55153be0cd5318daf19-scaled.jpg
ORGANIZER;CN="Krotona%20Institute":MAILTO:info@krotonainstitute.org
END:VEVENT
END:VCALENDAR