BEGIN:VCALENDAR
VERSION:2.0
PRODID:-//Ojai Hub - ECPv5.16.1.1//NONSGML v1.0//EN
CALSCALE:GREGORIAN
METHOD:PUBLISH
X-WR-CALNAME:Ojai Hub
X-ORIGINAL-URL:https://www.ojaihub.com
X-WR-CALDESC:Events for Ojai Hub
BEGIN:VTIMEZONE
TZID:America/Los_Angeles
BEGIN:DAYLIGHT
TZOFFSETFROM:-0800
TZOFFSETTO:-0700
TZNAME:PDT
DTSTART:20230312T100000
END:DAYLIGHT
BEGIN:STANDARD
TZOFFSETFROM:-0700
TZOFFSETTO:-0800
TZNAME:PST
DTSTART:20231105T090000
END:STANDARD
END:VTIMEZONE
BEGIN:VEVENT
DTSTART;TZID=America/Los_Angeles:20230330T100000
DTEND;TZID=America/Los_Angeles:20230330T120000
DTSTAMP:20260422T023642
CREATED:20230310T062425Z
LAST-MODIFIED:20230310T062425Z
UID:72187-1680170400-1680177600@www.ojaihub.com
SUMMARY:KROTONA SCHOOL - The Necessary Journey of Self-Transformation
DESCRIPTION:Ravi Ravindra \nThe Necessary Journey of Self-Transformation \nOn site and Zoom\, Eleven mornings 10-noon\, March 14-17 and 21-24 Tuesday-Friday\, March 28-March 30 Tuesday -Thursday  The one single lesson of all the scriptures and sacred writings is that unless searchers undergo a radical transformation of the whole of their being\, they cannot come to the Truth or God or the Real.  A searcher soon becomes deeply interested in the long but adventurous journey of self-transformation rather than the destination which always remains a Mystery.  Drawing from the traditional sacred literature\, Theosophical writings and the teachings of some modern sages\, we will explore the voyage of the necessary inner transformation. Single session $15 Series $150 \nRavi Ravindra is professor emeritus at Dalhousie University\, Halifax\, Canada\, where he taught in the departments of Physics\, Philosophy and Comparative Religion. He has authored many papers in physics\, philosophy and religion and several books\, including Pilgrim Soul; the Gospel of John in the Light of Indian Mysticism; Science and the Sacred; The Wisdom of Patanjali’s Yoga Sutras and The Bhagavad Gita: A Guide to Navigating the Battle of Life.
URL:https://www.ojaihub.com/event/krotona-school-the-necessary-journey-of-self-transformation-2023-03-30/
LOCATION:Online\, Ojai\, CA\, 93023\, United States
CATEGORIES:Gatherings,Virtual,Workshops (H)
ATTACH;FMTTYPE=image/jpeg:https://www.ojaihub.com/wp-content/uploads/2021/02/b980340a4132a55153be0cd5318daf19-scaled.jpg
ORGANIZER;CN="Krotona%20Institute":MAILTO:info@krotonainstitute.org
END:VEVENT
BEGIN:VEVENT
DTSTART;TZID=America/Los_Angeles:20230330T100000
DTEND;TZID=America/Los_Angeles:20230330T200000
DTSTAMP:20260422T023642
CREATED:20230310T200837Z
LAST-MODIFIED:20230310T205454Z
UID:72208-1680170400-1680206400@www.ojaihub.com
SUMMARY:COSMIC COMPASS FESTIVAL
DESCRIPTION:COSMIC COMPASS FESTIVAL\n  \nThe Divine Feminine is being celebrated and it is happening in Ojai between March 30th and April 2nd\, 2023! \nOjai\, California – March 30\, 31 April 1\, 2\, 2023 \nThe festival is all about collaboration! It presents a series of events over 4 days celebrating the Divine Feminine principle innate in all of life. We will participate in nurturing experiences that effortlessly open the heart to allow for deeper connections to our consciousness. \nA Playshop called “Where Did I Put Venus?” kicks off a series of activities co-hosted by Aline Hanle and Flourish Ojai Fellows\, Practitioners and Partners. All of the activities throughout the 4 days are designed to emphasize and enhance the essential Divine Feminine expressions that we can enjoy everyday: Intuition\, Self-Love\, Unconditional Love\, Creativity\, Receptivity\, Wholeness\, Acceptance\, Uniqueness\, and Oneness. \nClick here to visit the webpage announcing the event and find out all the details of this extraordinary opportunity to gather a community around a true collaborative design. Discover the Ojai local partners\, explore the festival program and be amazed by the richness of offerings scheduled throughout these 4 days.
URL:https://www.ojaihub.com/event/cosmic-compass-festival/
LOCATION:Ojai Location\, Ojai\, CA\, 93023\, United States
CATEGORIES:Food & Wine (H),Gatherings
ATTACH;FMTTYPE=image/png:https://www.ojaihub.com/wp-content/uploads/2023/03/Screenshot-2023-03-11-030528.png
ORGANIZER;CN="Cosmic%20Compass%20Experience":MAILTO:Aline@AlineHanle.com
END:VEVENT
END:VCALENDAR