BEGIN:VCALENDAR
VERSION:2.0
PRODID:-//Ojai Hub - ECPv5.16.1.1//NONSGML v1.0//EN
CALSCALE:GREGORIAN
METHOD:PUBLISH
X-WR-CALNAME:Ojai Hub
X-ORIGINAL-URL:https://www.ojaihub.com
X-WR-CALDESC:Events for Ojai Hub
BEGIN:VTIMEZONE
TZID:America/Los_Angeles
BEGIN:DAYLIGHT
TZOFFSETFROM:-0800
TZOFFSETTO:-0700
TZNAME:PDT
DTSTART:20230312T100000
END:DAYLIGHT
BEGIN:STANDARD
TZOFFSETFROM:-0700
TZOFFSETTO:-0800
TZNAME:PST
DTSTART:20231105T090000
END:STANDARD
END:VTIMEZONE
BEGIN:VEVENT
DTSTART;TZID=America/Los_Angeles:20230401T100000
DTEND;TZID=America/Los_Angeles:20230401T200000
DTSTAMP:20260421T231526
CREATED:20230310T200837Z
LAST-MODIFIED:20230310T205459Z
UID:72213-1680343200-1680379200@www.ojaihub.com
SUMMARY:COSMIC COMPASS FESTIVAL
DESCRIPTION:COSMIC COMPASS FESTIVAL\n  \nThe Divine Feminine is being celebrated and it is happening in Ojai between March 30th and April 2nd\, 2023! \nOjai\, California – March 30\, 31 April 1\, 2\, 2023 \nThe festival is all about collaboration! It presents a series of events over 4 days celebrating the Divine Feminine principle innate in all of life. We will participate in nurturing experiences that effortlessly open the heart to allow for deeper connections to our consciousness. \nA Playshop called “Where Did I Put Venus?” kicks off a series of activities co-hosted by Aline Hanle and Flourish Ojai Fellows\, Practitioners and Partners. All of the activities throughout the 4 days are designed to emphasize and enhance the essential Divine Feminine expressions that we can enjoy everyday: Intuition\, Self-Love\, Unconditional Love\, Creativity\, Receptivity\, Wholeness\, Acceptance\, Uniqueness\, and Oneness. \nClick here to visit the webpage announcing the event and find out all the details of this extraordinary opportunity to gather a community around a true collaborative design. Discover the Ojai local partners\, explore the festival program and be amazed by the richness of offerings scheduled throughout these 4 days.
URL:https://www.ojaihub.com/event/cosmic-compass-festival-2023-04-01/
LOCATION:Ojai Location\, Ojai\, CA\, 93023\, United States
CATEGORIES:Food & Wine (H),Gatherings
ATTACH;FMTTYPE=image/png:https://www.ojaihub.com/wp-content/uploads/2023/03/Screenshot-2023-03-11-030528.png
ORGANIZER;CN="Cosmic%20Compass%20Experience":MAILTO:Aline@AlineHanle.com
END:VEVENT
BEGIN:VEVENT
DTSTART;TZID=America/Los_Angeles:20230401T103000
DTEND;TZID=America/Los_Angeles:20230401T120000
DTSTAMP:20260421T231526
CREATED:20221013T214930Z
LAST-MODIFIED:20221013T214930Z
UID:72230-1680345000-1680350400@www.ojaihub.com
SUMMARY:OJAI VALLEY MUSEUM - Walking Tour of Historic Ojai
DESCRIPTION:WALKING TOURS OF HISTORIC OJAI\nNine months of the year we offer Saturday morning walking tours at 10:30 am. You will learn about the people\, places\, events and architecture that make Ojai such a special place. Museum admission is included in the tour fee. Come early (we open at 10am) to view the museum and/or return after the tour.\nTickets: Adults $10; Family $25; Children 6-17 and OVM museum members $5.
URL:https://www.ojaihub.com/event/ojai-valley-museum-walking-tour-of-historic-ojai-2023-01-07-2023-04-01/
LOCATION:Ojai Valley Museum\, 130 West Ojai Avenue\, ojai\, CA\, 93023\, United States
CATEGORIES:Citizenship,Family Events (H),Gatherings,Outdoors
ATTACH;FMTTYPE=image/jpeg:https://www.ojaihub.com/wp-content/uploads/2018/04/OVMuseum-courtyard.jpg
ORGANIZER;CN="The%20Ojai%20Valley%20Museum":MAILTO:ojaimuseum@gmail.com
END:VEVENT
END:VCALENDAR