BEGIN:VCALENDAR
VERSION:2.0
PRODID:-//Ojai Hub - ECPv5.16.1.1//NONSGML v1.0//EN
CALSCALE:GREGORIAN
METHOD:PUBLISH
X-WR-CALNAME:Ojai Hub
X-ORIGINAL-URL:https://www.ojaihub.com
X-WR-CALDESC:Events for Ojai Hub
BEGIN:VTIMEZONE
TZID:America/Los_Angeles
BEGIN:DAYLIGHT
TZOFFSETFROM:-0800
TZOFFSETTO:-0700
TZNAME:PDT
DTSTART:20230312T100000
END:DAYLIGHT
BEGIN:STANDARD
TZOFFSETFROM:-0700
TZOFFSETTO:-0800
TZNAME:PST
DTSTART:20231105T090000
END:STANDARD
END:VTIMEZONE
BEGIN:VEVENT
DTSTART;TZID=America/Los_Angeles:20230402T090000
DTEND;TZID=America/Los_Angeles:20230402T130000
DTSTAMP:20260421T214055
CREATED:20200417T204948Z
LAST-MODIFIED:20200417T204948Z
UID:72353-1680426000-1680440400@www.ojaihub.com
SUMMARY:Certified Farmer’s Market
DESCRIPTION:Every Sunday rain or shine from 9-1pm behind the arcade\, Ojai farmers market their bounty. This open air market features locally grown produce\, plants\, musicians and handmade items. Local makers also sell their handmade goods\, including soaps\, baskets\, beeswax candles and olive oil.\nEvery Sunday you can expect to find:\n\nLocally grown fresh fruits & vegetables harvested daily.\nJams\, Honey\, Bees Wax Candles\nBreads\nGourmet Desserts\nFresh Locally Caught Seafood\nNatural Meats\nOlive and Walnut Oil\nFree Range Eggs and Organic Chicken\nNuts & Dried Fruit\nPrepared Food\nRaw Chocolate\nFresh Cut Flowers\nPlants\, Orchids &\nHandmade Soap\n\n \n  \n 
URL:https://www.ojaihub.com/event/certified-farmers-market-2022-10-30-2023-01-01-2023-04-02/
LOCATION:Ojai Downtown\, 300 E. Matilija Street\, Ojai\, CA\, 93023\, United States
CATEGORIES:Food & Wine (H),Gatherings,Outdoors
ATTACH;FMTTYPE=image/jpeg:https://www.ojaihub.com/wp-content/uploads/2020/04/Ojai-certified-farers-market.jpg
ORGANIZER;CN="Cynthia%20Korman":MAILTO:ojaifarmersmarket@cox.net
END:VEVENT
BEGIN:VEVENT
DTSTART;TZID=America/Los_Angeles:20230402T100000
DTEND;TZID=America/Los_Angeles:20230402T200000
DTSTAMP:20260421T214055
CREATED:20230310T200837Z
LAST-MODIFIED:20230310T205500Z
UID:72214-1680429600-1680465600@www.ojaihub.com
SUMMARY:COSMIC COMPASS FESTIVAL
DESCRIPTION:COSMIC COMPASS FESTIVAL\n  \nThe Divine Feminine is being celebrated and it is happening in Ojai between March 30th and April 2nd\, 2023! \nOjai\, California – March 30\, 31 April 1\, 2\, 2023 \nThe festival is all about collaboration! It presents a series of events over 4 days celebrating the Divine Feminine principle innate in all of life. We will participate in nurturing experiences that effortlessly open the heart to allow for deeper connections to our consciousness. \nA Playshop called “Where Did I Put Venus?” kicks off a series of activities co-hosted by Aline Hanle and Flourish Ojai Fellows\, Practitioners and Partners. All of the activities throughout the 4 days are designed to emphasize and enhance the essential Divine Feminine expressions that we can enjoy everyday: Intuition\, Self-Love\, Unconditional Love\, Creativity\, Receptivity\, Wholeness\, Acceptance\, Uniqueness\, and Oneness. \nClick here to visit the webpage announcing the event and find out all the details of this extraordinary opportunity to gather a community around a true collaborative design. Discover the Ojai local partners\, explore the festival program and be amazed by the richness of offerings scheduled throughout these 4 days.
URL:https://www.ojaihub.com/event/cosmic-compass-festival-2023-04-02/
LOCATION:Ojai Location\, Ojai\, CA\, 93023\, United States
CATEGORIES:Food & Wine (H),Gatherings
ATTACH;FMTTYPE=image/png:https://www.ojaihub.com/wp-content/uploads/2023/03/Screenshot-2023-03-11-030528.png
ORGANIZER;CN="Cosmic%20Compass%20Experience":MAILTO:Aline@AlineHanle.com
END:VEVENT
END:VCALENDAR